BEGIN:VCALENDAR
VERSION:2.0
PRODID:-//pen fight - ECPv6.15.20//NONSGML v1.0//EN
CALSCALE:GREGORIAN
METHOD:PUBLISH
X-WR-CALNAME:pen fight
X-ORIGINAL-URL:https://penfightdistro.com
X-WR-CALDESC:Events for pen fight
REFRESH-INTERVAL;VALUE=DURATION:PT1H
X-Robots-Tag:noindex
X-PUBLISHED-TTL:PT1H
BEGIN:VTIMEZONE
TZID:Europe/London
BEGIN:DAYLIGHT
TZOFFSETFROM:+0000
TZOFFSETTO:+0100
TZNAME:BST
DTSTART:20190331T010000
END:DAYLIGHT
BEGIN:STANDARD
TZOFFSETFROM:+0100
TZOFFSETTO:+0000
TZNAME:GMT
DTSTART:20191027T010000
END:STANDARD
BEGIN:DAYLIGHT
TZOFFSETFROM:+0000
TZOFFSETTO:+0100
TZNAME:BST
DTSTART:20200329T010000
END:DAYLIGHT
BEGIN:STANDARD
TZOFFSETFROM:+0100
TZOFFSETTO:+0000
TZNAME:GMT
DTSTART:20201025T010000
END:STANDARD
BEGIN:DAYLIGHT
TZOFFSETFROM:+0000
TZOFFSETTO:+0100
TZNAME:BST
DTSTART:20210328T010000
END:DAYLIGHT
BEGIN:STANDARD
TZOFFSETFROM:+0100
TZOFFSETTO:+0000
TZNAME:GMT
DTSTART:20211031T010000
END:STANDARD
END:VTIMEZONE
BEGIN:VEVENT
DTSTART;TZID=Europe/London:20200303T190000
DTEND;TZID=Europe/London:20200303T210000
DTSTAMP:20260424T130006
CREATED:20200228T203901Z
LAST-MODIFIED:20200228T203901Z
UID:10814-1583262000-1583269200@penfightdistro.com
SUMMARY:York Zine Club (2020 dates)
DESCRIPTION:Join a friendly bunch of zine lovers at our monthly zine socials! \nHang out\, make some zines and get creative! Some basic materials will be provided but feel free to bring along some paper / favourite stationery / art materials you want to play with. You can work on your own projects or join in one of the evenings zine challenges. \nThere will be a mini zine library to look through for inspiration and feel free to bring some of your zines to share with the group too! If you’ve never made a zine before don’t be shy\, it’s a great way to express yourself and share your thoughts with the world and is super fun and easy. \nSelf publishing is for everyone and all are welcome! Even if you just want to sit and chat with us and eat crisps!!\nPRINT IS NOT DEAD!!! \nDates for 2019…\nThis year we are moving to the first Tuesday of the month\n7pm-9pm – FREE ENTRY!! \nTuesday 4th Feb\nTuesday 3rd March\nTuesday 7th April\nTuesday 5th May\nTuesday 2nd June\nTuesday 7th July\nTuesday 4th August\nTuesday 1st September\nTuesday 6th October\nTuesday 3rd November\nTuesday 1st December \nThe Crescent Community Centre\, 8 The Crescent\, York\, YO24 1AW. \nwww.yorkzinefest.co.uk | Instagram @yorkzinefest
URL:https://penfightdistro.com/zine-event/york-zine-club-2020-dates/
LOCATION:The Crescent\, York\, YO24 1AW
CATEGORIES:Zine Club
ATTACH;FMTTYPE=image/jpeg:https://penfightdistro.com/wp-content/uploads/2020/02/82620152_1223573277832088_5633870432235945984_o.jpg
END:VEVENT
END:VCALENDAR