BEGIN:VCALENDAR
VERSION:2.0
PRODID:-//pen fight - ECPv6.15.20//NONSGML v1.0//EN
CALSCALE:GREGORIAN
METHOD:PUBLISH
X-ORIGINAL-URL:https://penfightdistro.com
X-WR-CALDESC:Events for pen fight
REFRESH-INTERVAL;VALUE=DURATION:PT1H
X-Robots-Tag:noindex
X-PUBLISHED-TTL:PT1H
BEGIN:VTIMEZONE
TZID:Europe/London
BEGIN:DAYLIGHT
TZOFFSETFROM:+0000
TZOFFSETTO:+0100
TZNAME:BST
DTSTART:20190331T010000
END:DAYLIGHT
BEGIN:STANDARD
TZOFFSETFROM:+0100
TZOFFSETTO:+0000
TZNAME:GMT
DTSTART:20191027T010000
END:STANDARD
BEGIN:DAYLIGHT
TZOFFSETFROM:+0000
TZOFFSETTO:+0100
TZNAME:BST
DTSTART:20200329T010000
END:DAYLIGHT
BEGIN:STANDARD
TZOFFSETFROM:+0100
TZOFFSETTO:+0000
TZNAME:GMT
DTSTART:20201025T010000
END:STANDARD
BEGIN:DAYLIGHT
TZOFFSETFROM:+0000
TZOFFSETTO:+0100
TZNAME:BST
DTSTART:20210328T010000
END:DAYLIGHT
BEGIN:STANDARD
TZOFFSETFROM:+0100
TZOFFSETTO:+0000
TZNAME:GMT
DTSTART:20211031T010000
END:STANDARD
END:VTIMEZONE
BEGIN:VEVENT
DTSTART;TZID=Europe/London:20200204T190000
DTEND;TZID=Europe/London:20200204T210000
DTSTAMP:20260424T142544
CREATED:20200108T143450Z
LAST-MODIFIED:20200108T143450Z
UID:8224-1580842800-1580850000@penfightdistro.com
SUMMARY:York Zine Club
DESCRIPTION:Looking forward to hanging out with you this year\, moving it to a new slot on the first Tuesday of the month to mix things up for people who couldn’t do Thursday’s! Gonna take a little break for January but we will be back on Tuesday 4th Feb The Crescent York so get it in yer diary woo!
URL:https://penfightdistro.com/zine-event/york-zine-club/
LOCATION:The Crescent\, York\, YO24 1AW
CATEGORIES:Zine Social
ATTACH;FMTTYPE=image/jpeg:https://penfightdistro.com/wp-content/uploads/2020/01/82558080_1220787331444016_4729602137925877760_o.jpg
END:VEVENT
END:VCALENDAR