BEGIN:VCALENDAR
VERSION:2.0
PRODID:-//pen fight - ECPv6.15.20//NONSGML v1.0//EN
CALSCALE:GREGORIAN
METHOD:PUBLISH
X-WR-CALNAME:pen fight
X-ORIGINAL-URL:https://penfightdistro.com
X-WR-CALDESC:Events for pen fight
REFRESH-INTERVAL;VALUE=DURATION:PT1H
X-Robots-Tag:noindex
X-PUBLISHED-TTL:PT1H
BEGIN:VTIMEZONE
TZID:Europe/London
BEGIN:DAYLIGHT
TZOFFSETFROM:+0000
TZOFFSETTO:+0100
TZNAME:BST
DTSTART:20180325T010000
END:DAYLIGHT
BEGIN:STANDARD
TZOFFSETFROM:+0100
TZOFFSETTO:+0000
TZNAME:GMT
DTSTART:20181028T010000
END:STANDARD
BEGIN:DAYLIGHT
TZOFFSETFROM:+0000
TZOFFSETTO:+0100
TZNAME:BST
DTSTART:20190331T010000
END:DAYLIGHT
BEGIN:STANDARD
TZOFFSETFROM:+0100
TZOFFSETTO:+0000
TZNAME:GMT
DTSTART:20191027T010000
END:STANDARD
BEGIN:DAYLIGHT
TZOFFSETFROM:+0000
TZOFFSETTO:+0100
TZNAME:BST
DTSTART:20200329T010000
END:DAYLIGHT
BEGIN:STANDARD
TZOFFSETFROM:+0100
TZOFFSETTO:+0000
TZNAME:GMT
DTSTART:20201025T010000
END:STANDARD
END:VTIMEZONE
BEGIN:VEVENT
DTSTART;TZID=Europe/London:20191208T120000
DTEND;TZID=Europe/London:20191208T160000
DTSTAMP:20260424T170344
CREATED:20191014T131129Z
LAST-MODIFIED:20191014T131129Z
UID:4815-1575806400-1575820800@penfightdistro.com
SUMMARY:York Zine Fest - Festive Edition 2019
DESCRIPTION:York Zine Fest is back for a very merry Festive Edition!! \nJoin us for 40+ zine stalls\, craft workshops\, browse through the zine library\, take some piccies in the Grotto and fill up on mince pies and mulled wine! \nSaturday 8th December at The Crescent\, York – 12-4pm – free entry! \nApplications are now open\, email yorkzinefest@gmail.com with your details and links to your work. Applications close 31st October. Stalls are £10.
URL:https://penfightdistro.com/zine-event/york-zine-fest-festive-edition-2019/
LOCATION:The Crescent\, York\, YO24 1AW
CATEGORIES:Zine Fair
ATTACH;FMTTYPE=image/jpeg:https://penfightdistro.com/wp-content/uploads/2019/10/72887769_1137353836454033_3553947981306658816_n.jpg
END:VEVENT
END:VCALENDAR