BEGIN:VCALENDAR
VERSION:2.0
PRODID:-//pen fight - ECPv6.15.20//NONSGML v1.0//EN
CALSCALE:GREGORIAN
METHOD:PUBLISH
X-ORIGINAL-URL:https://penfightdistro.com
X-WR-CALDESC:Events for pen fight
REFRESH-INTERVAL;VALUE=DURATION:PT1H
X-Robots-Tag:noindex
X-PUBLISHED-TTL:PT1H
BEGIN:VTIMEZONE
TZID:Europe/London
BEGIN:DAYLIGHT
TZOFFSETFROM:+0000
TZOFFSETTO:+0100
TZNAME:BST
DTSTART:20180325T010000
END:DAYLIGHT
BEGIN:STANDARD
TZOFFSETFROM:+0100
TZOFFSETTO:+0000
TZNAME:GMT
DTSTART:20181028T010000
END:STANDARD
BEGIN:DAYLIGHT
TZOFFSETFROM:+0000
TZOFFSETTO:+0100
TZNAME:BST
DTSTART:20190331T010000
END:DAYLIGHT
BEGIN:STANDARD
TZOFFSETFROM:+0100
TZOFFSETTO:+0000
TZNAME:GMT
DTSTART:20191027T010000
END:STANDARD
BEGIN:DAYLIGHT
TZOFFSETFROM:+0000
TZOFFSETTO:+0100
TZNAME:BST
DTSTART:20200329T010000
END:DAYLIGHT
BEGIN:STANDARD
TZOFFSETFROM:+0100
TZOFFSETTO:+0000
TZNAME:GMT
DTSTART:20201025T010000
END:STANDARD
END:VTIMEZONE
BEGIN:VEVENT
DTSTART;TZID=Europe/London:20190930T190000
DTEND;TZID=Europe/London:20190930T210000
DTSTAMP:20260424T205021
CREATED:20190925T134917Z
LAST-MODIFIED:20190925T134917Z
UID:4241-1569870000-1569877200@penfightdistro.com
SUMMARY:York Zine Club 2019
DESCRIPTION:Join a friendly bunch of zine lovers at our monthly zine socials! \nHang out\, make some zines and get creative! Some basic materials will be provided but feel free to bring along some paper / favourite stationery / art materials you want to play with. You can work on your own projects or join in one of the evenings zine challenges. \nThere will be a mini zine library to look through for inspiration and feel free to bring some of your zines to share with the group too! If you’ve never made a zine before don’t be shy\, it’s a great way to express yourself and share your thoughts with the world and is super fun and easy. \nSelf publishing is for everyone and all are welcome! Even if you just want to sit and chat with us and eat crisps!!\nPRINT IS NOT DEAD!!! \nDates for 2019…\n7pm-9pm – FREE ENTRY!! \nThursday 29th August\nMonday 30th September (Note – Not a Thursday!)\nThursday 31st October (Halloween Special!)\nThursday 28th November \nThe Crescent Community Centre\, 8 The Crescent\, York\, YO24 1AW. \nwww.yorkzinefest.co.uk | Instagram @yorkzinefest
URL:https://penfightdistro.com/zine-event/york-zine-club-2019/
LOCATION:The Crescent\, York\, YO24 1AW
CATEGORIES:Zine Social
ATTACH;FMTTYPE=image/jpeg:https://penfightdistro.com/wp-content/uploads/2019/09/67757071_1090781457777938_2529964637626040320_o.jpg
END:VEVENT
END:VCALENDAR