BEGIN:VCALENDAR
VERSION:2.0
PRODID:-//pen fight - ECPv6.15.20//NONSGML v1.0//EN
CALSCALE:GREGORIAN
METHOD:PUBLISH
X-WR-CALNAME:pen fight
X-ORIGINAL-URL:https://penfightdistro.com
X-WR-CALDESC:Events for pen fight
REFRESH-INTERVAL;VALUE=DURATION:PT1H
X-Robots-Tag:noindex
X-PUBLISHED-TTL:PT1H
BEGIN:VTIMEZONE
TZID:Europe/London
BEGIN:DAYLIGHT
TZOFFSETFROM:+0000
TZOFFSETTO:+0100
TZNAME:BST
DTSTART:20180325T010000
END:DAYLIGHT
BEGIN:STANDARD
TZOFFSETFROM:+0100
TZOFFSETTO:+0000
TZNAME:GMT
DTSTART:20181028T010000
END:STANDARD
BEGIN:DAYLIGHT
TZOFFSETFROM:+0000
TZOFFSETTO:+0100
TZNAME:BST
DTSTART:20190331T010000
END:DAYLIGHT
BEGIN:STANDARD
TZOFFSETFROM:+0100
TZOFFSETTO:+0000
TZNAME:GMT
DTSTART:20191027T010000
END:STANDARD
BEGIN:DAYLIGHT
TZOFFSETFROM:+0000
TZOFFSETTO:+0100
TZNAME:BST
DTSTART:20200329T010000
END:DAYLIGHT
BEGIN:STANDARD
TZOFFSETFROM:+0100
TZOFFSETTO:+0000
TZNAME:GMT
DTSTART:20201025T010000
END:STANDARD
END:VTIMEZONE
BEGIN:VEVENT
DTSTART;TZID=Europe/London:20190727T120000
DTEND;TZID=Europe/London:20190727T160000
DTSTAMP:20260423T201358
CREATED:20190427T144740Z
LAST-MODIFIED:20190427T144740Z
UID:3270-1564228800-1564243200@penfightdistro.com
SUMMARY:Swindon Zine Fest
DESCRIPTION:We will be holding the second Swindon Zine Fest on the 27 July 2019! \nIt will be held at the Central Community Centre in Swindon from 12pm to 4pm. \n\nStallholders\nWe accept applications from zine makers\, zine distros\, illustrators and small press comics. Tables will be £5 for a half and £10 for a whole table. \nWe will give priority to women/non-binary/poc/LGBT makers. We want to make sure we have zines that represent a diverse selection of people & if the table fee is an issue\, please let us know and we can figure it out. \nDeadline is Friday 31st of May 2019 \nPlease let us know if you have any other questions or concerns! \nCommunal Table\nIf you would like to sell at the zine fest but can’t make it\, we can sell your zines for you at the communal table\, just make sure you let us know when you apply. \n\nWorkshops\n\nIf you would like to run a workshop (we’d especially love it if someone could run a workshop printing tote bags!) then please get in touch via the application form/note this on your application.
URL:https://penfightdistro.com/zine-event/swindon-zine-fest/
LOCATION:Central Community Centre\, Emlyn Square\, Swindon\, SN1 5BP
CATEGORIES:Zine Fair
ATTACH;FMTTYPE=image/jpeg:https://penfightdistro.com/wp-content/uploads/2019/04/D3ZFoG0WwAE9kkA.jpg
END:VEVENT
END:VCALENDAR