BEGIN:VCALENDAR
VERSION:2.0
PRODID:-//pen fight - ECPv6.15.20//NONSGML v1.0//EN
CALSCALE:GREGORIAN
METHOD:PUBLISH
X-ORIGINAL-URL:https://penfightdistro.com
X-WR-CALDESC:Events for pen fight
REFRESH-INTERVAL;VALUE=DURATION:PT1H
X-Robots-Tag:noindex
X-PUBLISHED-TTL:PT1H
BEGIN:VTIMEZONE
TZID:Europe/London
BEGIN:DAYLIGHT
TZOFFSETFROM:+0000
TZOFFSETTO:+0100
TZNAME:BST
DTSTART:20170326T010000
END:DAYLIGHT
BEGIN:STANDARD
TZOFFSETFROM:+0100
TZOFFSETTO:+0000
TZNAME:GMT
DTSTART:20171029T010000
END:STANDARD
BEGIN:DAYLIGHT
TZOFFSETFROM:+0000
TZOFFSETTO:+0100
TZNAME:BST
DTSTART:20180325T010000
END:DAYLIGHT
BEGIN:STANDARD
TZOFFSETFROM:+0100
TZOFFSETTO:+0000
TZNAME:GMT
DTSTART:20181028T010000
END:STANDARD
BEGIN:DAYLIGHT
TZOFFSETFROM:+0000
TZOFFSETTO:+0100
TZNAME:BST
DTSTART:20190331T010000
END:DAYLIGHT
BEGIN:STANDARD
TZOFFSETFROM:+0100
TZOFFSETTO:+0000
TZNAME:GMT
DTSTART:20191027T010000
END:STANDARD
END:VTIMEZONE
BEGIN:VEVENT
DTSTART;TZID=Europe/London:20180818T130000
DTEND;TZID=Europe/London:20180818T180000
DTSTAMP:20260424T112847
CREATED:20180408T222617Z
LAST-MODIFIED:20180408T222617Z
UID:2785-1534597200-1534615200@penfightdistro.com
SUMMARY:Swindon Zine Fest 2018
DESCRIPTION:Swindon will have its first zinefest on the 18th of August this year! \nApplications are now open for zine makers\, illustrators\, comic artists & self-publishers to apply for Swindon Zine Fest 2018! It will be held at the Central Community Centre in Swindon on the 18th August from 1pm to 6pm. \nPriority will be given to women/non-binary/poc applications! We want to make sure we have zines that represent a diverse selection of people & if the table fee is an issue\, we can figure it out! \nDeadline for Applications 6th July 2018. \nHalf and full tables will be available and we will have a communal table at the event for anyone who wants to sell a zine but doesn’t want to look after a table!
URL:https://penfightdistro.com/zine-event/swindon-zine-fest-2018/
LOCATION:Central Community Centre\, Emlyn Square\, Swindon\, SN1 5BP
CATEGORIES:Zine Fair
END:VEVENT
END:VCALENDAR