BEGIN:VCALENDAR
VERSION:2.0
PRODID:-//pen fight - ECPv6.15.20//NONSGML v1.0//EN
CALSCALE:GREGORIAN
METHOD:PUBLISH
X-WR-CALNAME:pen fight
X-ORIGINAL-URL:https://penfightdistro.com
X-WR-CALDESC:Events for pen fight
REFRESH-INTERVAL;VALUE=DURATION:PT1H
X-Robots-Tag:noindex
X-PUBLISHED-TTL:PT1H
BEGIN:VTIMEZONE
TZID:Europe/London
BEGIN:DAYLIGHT
TZOFFSETFROM:+0000
TZOFFSETTO:+0100
TZNAME:BST
DTSTART:20180325T010000
END:DAYLIGHT
BEGIN:STANDARD
TZOFFSETFROM:+0100
TZOFFSETTO:+0000
TZNAME:GMT
DTSTART:20181028T010000
END:STANDARD
BEGIN:DAYLIGHT
TZOFFSETFROM:+0000
TZOFFSETTO:+0100
TZNAME:BST
DTSTART:20190331T010000
END:DAYLIGHT
BEGIN:STANDARD
TZOFFSETFROM:+0100
TZOFFSETTO:+0000
TZNAME:GMT
DTSTART:20191027T010000
END:STANDARD
BEGIN:DAYLIGHT
TZOFFSETFROM:+0000
TZOFFSETTO:+0100
TZNAME:BST
DTSTART:20200329T010000
END:DAYLIGHT
BEGIN:STANDARD
TZOFFSETFROM:+0100
TZOFFSETTO:+0000
TZNAME:GMT
DTSTART:20201025T010000
END:STANDARD
END:VTIMEZONE
BEGIN:VEVENT
DTSTART;TZID=Europe/London:20191024T180000
DTEND;TZID=Europe/London:20191024T200000
DTSTAMP:20260423T165524
CREATED:20190928T135127Z
LAST-MODIFIED:20190928T135127Z
UID:4322-1571940000-1571947200@penfightdistro.com
SUMMARY:Dream Babes Zine Readings
DESCRIPTION:Dream Babes is a long term project that explores science and speculative fiction as a productive strategy of queer resistance\, imaging futurity that does not depend on existing historical and social infrastructure. It has included science fiction porn screenings and talks\, a three-day programme of performance at Auto Italia South East\, a publication\, and a regular science fiction reading group for queer people of colour. \nThis event celebrates the launch of Dream Babes zine 2.0 published by PSS\, featuring contributions from: \nSophia Al Maria \nDanielle Brathwaite-Shirley \nAngela Chan and Xia Jia \nOrion J Facey \nBing Hao \nIrene Tokini Fubara Manuel \nImani Robinson \nAshkan Sepahvand \nDaniella Valz Gen \nVictoria Sin and Samuel R Delany \nDream Babes Zine 2.0 focuses on the questions that speculative fiction can ask which are especially important now – what if things were different? What if things stay the same? How can we realise the absurd in the familiar? \nPart of Site Gallery’s exhibition ‘Rewriting The Future‘ Public Programme.
URL:https://penfightdistro.com/zine-event/dream-babes-zine-readings/
LOCATION:Site Gallery\, 1 Brown Street\, Sheffield\, S1 2BS\, United Kingdom
CATEGORIES:Zine Launch,Zine Reading
ATTACH;FMTTYPE=image/jpeg:https://penfightdistro.com/wp-content/uploads/2019/09/https___cdn.evbuc_.com_images_69552583_17983135903_1_original.jpg
END:VEVENT
END:VCALENDAR