BEGIN:VCALENDAR
VERSION:2.0
PRODID:-//pen fight - ECPv6.15.20//NONSGML v1.0//EN
CALSCALE:GREGORIAN
METHOD:PUBLISH
X-ORIGINAL-URL:https://penfightdistro.com
X-WR-CALDESC:Events for pen fight
REFRESH-INTERVAL;VALUE=DURATION:PT1H
X-Robots-Tag:noindex
X-PUBLISHED-TTL:PT1H
BEGIN:VTIMEZONE
TZID:Europe/London
BEGIN:DAYLIGHT
TZOFFSETFROM:+0000
TZOFFSETTO:+0100
TZNAME:BST
DTSTART:20180325T010000
END:DAYLIGHT
BEGIN:STANDARD
TZOFFSETFROM:+0100
TZOFFSETTO:+0000
TZNAME:GMT
DTSTART:20181028T010000
END:STANDARD
BEGIN:DAYLIGHT
TZOFFSETFROM:+0000
TZOFFSETTO:+0100
TZNAME:BST
DTSTART:20190331T010000
END:DAYLIGHT
BEGIN:STANDARD
TZOFFSETFROM:+0100
TZOFFSETTO:+0000
TZNAME:GMT
DTSTART:20191027T010000
END:STANDARD
BEGIN:DAYLIGHT
TZOFFSETFROM:+0000
TZOFFSETTO:+0100
TZNAME:BST
DTSTART:20200329T010000
END:DAYLIGHT
BEGIN:STANDARD
TZOFFSETFROM:+0100
TZOFFSETTO:+0000
TZNAME:GMT
DTSTART:20201025T010000
END:STANDARD
END:VTIMEZONE
BEGIN:VEVENT
DTSTART;TZID=Europe/London:20190427T080000
DTEND;TZID=Europe/London:20190427T170000
DTSTAMP:20260424T014948
CREATED:20190427T135607Z
LAST-MODIFIED:20190427T135607Z
UID:3255-1556352000-1556384400@penfightdistro.com
SUMMARY:Sheffield Zine Fest 2019
DESCRIPTION:Come along to browse and buy zines and crafts made by local writers\, artists and designers and those from further afield – or make your own – and find out all about independent publishing. \nWhat’s a zine? Pronounced ‘zeen’ like maga-zine\, it’s a magazine or booklet that you make yourself\, and give away\, swap or sell for the cost of printing. What’s the point? To share your knowledge\, or your feelings\, or your experiences in a way that’s more tangible than blogging\, less commercial\, and more immediate than traditional print media. \nFree entry and free workshops: make a mini zine\, try mail art\, craftivism\, and more! After party at the Treehouse Board Game Cafe. \nPart of the Festival of Debate 2019.
URL:https://penfightdistro.com/zine-event/sheffield-zine-fest-2019/
LOCATION:The Workstation\, 15 Paternoster Row\, Sheffield\, S1 2BX\, United Kingdom
CATEGORIES:Zine Fair
ORGANIZER;CN="Sheffield Zine Fest":MAILTO:sheffieldzinefest(at)gmail(dot)com
END:VEVENT
END:VCALENDAR