BEGIN:VCALENDAR
VERSION:2.0
PRODID:-//pen fight - ECPv6.15.20//NONSGML v1.0//EN
CALSCALE:GREGORIAN
METHOD:PUBLISH
X-WR-CALNAME:pen fight
X-ORIGINAL-URL:https://penfightdistro.com
X-WR-CALDESC:Events for pen fight
REFRESH-INTERVAL;VALUE=DURATION:PT1H
X-Robots-Tag:noindex
X-PUBLISHED-TTL:PT1H
BEGIN:VTIMEZONE
TZID:Europe/London
BEGIN:DAYLIGHT
TZOFFSETFROM:+0000
TZOFFSETTO:+0100
TZNAME:BST
DTSTART:20160327T010000
END:DAYLIGHT
BEGIN:STANDARD
TZOFFSETFROM:+0100
TZOFFSETTO:+0000
TZNAME:GMT
DTSTART:20161030T010000
END:STANDARD
BEGIN:DAYLIGHT
TZOFFSETFROM:+0000
TZOFFSETTO:+0100
TZNAME:BST
DTSTART:20170326T010000
END:DAYLIGHT
BEGIN:STANDARD
TZOFFSETFROM:+0100
TZOFFSETTO:+0000
TZNAME:GMT
DTSTART:20171029T010000
END:STANDARD
BEGIN:DAYLIGHT
TZOFFSETFROM:+0000
TZOFFSETTO:+0100
TZNAME:BST
DTSTART:20180325T010000
END:DAYLIGHT
BEGIN:STANDARD
TZOFFSETFROM:+0100
TZOFFSETTO:+0000
TZNAME:GMT
DTSTART:20181028T010000
END:STANDARD
END:VTIMEZONE
BEGIN:VEVENT
DTSTART;TZID=Europe/London:20170225T110000
DTEND;TZID=Europe/London:20170225T160000
DTSTAMP:20260425T122036
CREATED:20161119T185929Z
LAST-MODIFIED:20161119T185929Z
UID:495-1488020400-1488038400@penfightdistro.com
SUMMARY:Sheffield Zine Fest 2017
DESCRIPTION:Save the date! More info coming soon.
URL:https://penfightdistro.com/zine-event/sheffield-zine-fest-2017/
LOCATION:The Hubs\, Sheffield\, United Kingdom
CATEGORIES:Zine Fair
ORGANIZER;CN="Sheffield Zine Fest":MAILTO:sheffieldzinefest(at)gmail(dot)com
END:VEVENT
END:VCALENDAR