BEGIN:VCALENDAR
VERSION:2.0
PRODID:-//pen fight - ECPv6.15.20//NONSGML v1.0//EN
CALSCALE:GREGORIAN
METHOD:PUBLISH
X-ORIGINAL-URL:https://penfightdistro.com
X-WR-CALDESC:Events for pen fight
REFRESH-INTERVAL;VALUE=DURATION:PT1H
X-Robots-Tag:noindex
X-PUBLISHED-TTL:PT1H
BEGIN:VTIMEZONE
TZID:Europe/London
BEGIN:DAYLIGHT
TZOFFSETFROM:+0000
TZOFFSETTO:+0100
TZNAME:BST
DTSTART:20200329T010000
END:DAYLIGHT
BEGIN:STANDARD
TZOFFSETFROM:+0100
TZOFFSETTO:+0000
TZNAME:GMT
DTSTART:20201025T010000
END:STANDARD
BEGIN:DAYLIGHT
TZOFFSETFROM:+0000
TZOFFSETTO:+0100
TZNAME:BST
DTSTART:20210328T010000
END:DAYLIGHT
BEGIN:STANDARD
TZOFFSETFROM:+0100
TZOFFSETTO:+0000
TZNAME:GMT
DTSTART:20211031T010000
END:STANDARD
BEGIN:DAYLIGHT
TZOFFSETFROM:+0000
TZOFFSETTO:+0100
TZNAME:BST
DTSTART:20220327T010000
END:DAYLIGHT
BEGIN:STANDARD
TZOFFSETFROM:+0100
TZOFFSETTO:+0000
TZNAME:GMT
DTSTART:20221030T010000
END:STANDARD
END:VTIMEZONE
BEGIN:VEVENT
DTSTART;TZID=Europe/London:20211218T130000
DTEND;TZID=Europe/London:20211218T150000
DTSTAMP:20260423T124730
CREATED:20211205T230159Z
LAST-MODIFIED:20211205T230159Z
UID:15049-1639832400-1639839600@penfightdistro.com
SUMMARY:Free Queer Feminist Zine Workshop
DESCRIPTION:Book event here \nThis workshop is open to everyone (although we do have an age guidance of 14+ due to some of the content we may explore in the workshop). \nIn the 2 hours we have together\, we aim to create a safe space where those participating can choose to explore and express their experiences through the art of zine making. Absolutely no previous experience in zine making necessary and you have the power to share as much or as little as you feel comfortable. The most important thing here is having fun! \nSome possible topics we may discuss: C/W – sexual harassment\, times when you’ve felt uncomfortable in the workspace/at school\, things you’ve witnessed as a bystander etc. \nThis workshop is part of the research and development phase of Powersuit Collectives new theatre show. There may be someone at the workshop taking pictures and/or video recordings. As this is YOUR space we will never share images of you without your permission. Please let us know at the workshop if you would not like us to share your image on our socials or if you have any questions please drop us a line at powersuitcollective@gmail.com \nAll materials will be included. \nThe venue where the workshop will be held is wheelchair accessible. \nAbout us: \nGrrrl Zine Fair – Lu Williams They/She \nLu Williams creates cross disciplinary artworks\, social practice\, events and printer matter with a focus on accessibility\, labour\, DIY culture\, intersectional feminism and personal experience of queerness and working class culture. They founded Grrrl Zine Fair in 2015. \nGrrrl Zine Fair platforms women\, transgender and non-binary artists and makers and is comprised of a self-publishing fair\, panel talks\, performances\, live music\, exhibitions and workshops curated by artist Lu Williams. \nPowersuit Collective \nPowersuit Collective is a feminist\, queer group of cis women who create thoughtful and empowering pieces of art and performance theatre based in Oxfordshire. Their combined values include smashing the patriarchy\, empowering marginalised voices and championing intersectional feminism. Their latest installation at the Old Fire Station as part of Offbeat Festival was called “Numbers For Girls” and centred around statistics about women and their everyday experiences in the world. They are currently working on a new theatre show which they hope will be brought to fruition in 2022.
URL:https://penfightdistro.com/zine-event/free-queer-feminist-zine-workshop/
LOCATION:The Old Fire Station\, 40 George Street\, Oxford\, OX1 2AQ\, United Kingdom
CATEGORIES:Workshops
ATTACH;FMTTYPE=image/jpeg:https://penfightdistro.com/wp-content/uploads/2021/12/https___cdn.evbuc_.com_images_192906949_712692809473_1_original.jpg
END:VEVENT
END:VCALENDAR