BEGIN:VCALENDAR
VERSION:2.0
PRODID:-//pen fight - ECPv6.15.20//NONSGML v1.0//EN
CALSCALE:GREGORIAN
METHOD:PUBLISH
X-WR-CALNAME:pen fight
X-ORIGINAL-URL:https://penfightdistro.com
X-WR-CALDESC:Events for pen fight
REFRESH-INTERVAL;VALUE=DURATION:PT1H
X-Robots-Tag:noindex
X-PUBLISHED-TTL:PT1H
BEGIN:VTIMEZONE
TZID:Europe/London
BEGIN:DAYLIGHT
TZOFFSETFROM:+0000
TZOFFSETTO:+0100
TZNAME:BST
DTSTART:20180325T010000
END:DAYLIGHT
BEGIN:STANDARD
TZOFFSETFROM:+0100
TZOFFSETTO:+0000
TZNAME:GMT
DTSTART:20181028T010000
END:STANDARD
BEGIN:DAYLIGHT
TZOFFSETFROM:+0000
TZOFFSETTO:+0100
TZNAME:BST
DTSTART:20190331T010000
END:DAYLIGHT
BEGIN:STANDARD
TZOFFSETFROM:+0100
TZOFFSETTO:+0000
TZNAME:GMT
DTSTART:20191027T010000
END:STANDARD
BEGIN:DAYLIGHT
TZOFFSETFROM:+0000
TZOFFSETTO:+0100
TZNAME:BST
DTSTART:20200329T010000
END:DAYLIGHT
BEGIN:STANDARD
TZOFFSETFROM:+0100
TZOFFSETTO:+0000
TZNAME:GMT
DTSTART:20201025T010000
END:STANDARD
END:VTIMEZONE
BEGIN:VEVENT
DTSTART;TZID=Europe/London:20191123T110000
DTEND;TZID=Europe/London:20191123T160000
DTSTAMP:20260425T150227
CREATED:20191014T125735Z
LAST-MODIFIED:20191014T125735Z
UID:4804-1574506800-1574524800@penfightdistro.com
SUMMARY:Norwich Millennium Zine Library - Zine Fair
DESCRIPTION:Norwich Millennium Zine Library has their first-ever zine fair on November 23rd. \nFree entry. For stallholder applications email rachel.ridealgh@norfolk.gov.uk / apryl-markham-uden@norfolk.gov.uk
URL:https://penfightdistro.com/zine-event/norwich-millennium-zine-library-zine-fair/
LOCATION:Norwich Millennium Library\, The Forum\, Millennium Plain\, Norwich\, NR2 1AW
CATEGORIES:Zine Fair
ATTACH;FMTTYPE=image/jpeg:https://penfightdistro.com/wp-content/uploads/2019/10/EF9SadDX0AAh_FU.jpg
END:VEVENT
END:VCALENDAR