BEGIN:VCALENDAR
VERSION:2.0
PRODID:-//pen fight - ECPv6.15.20//NONSGML v1.0//EN
CALSCALE:GREGORIAN
METHOD:PUBLISH
X-ORIGINAL-URL:https://penfightdistro.com
X-WR-CALDESC:Events for pen fight
REFRESH-INTERVAL;VALUE=DURATION:PT1H
X-Robots-Tag:noindex
X-PUBLISHED-TTL:PT1H
BEGIN:VTIMEZONE
TZID:Europe/London
BEGIN:DAYLIGHT
TZOFFSETFROM:+0000
TZOFFSETTO:+0100
TZNAME:BST
DTSTART:20180325T010000
END:DAYLIGHT
BEGIN:STANDARD
TZOFFSETFROM:+0100
TZOFFSETTO:+0000
TZNAME:GMT
DTSTART:20181028T010000
END:STANDARD
BEGIN:DAYLIGHT
TZOFFSETFROM:+0000
TZOFFSETTO:+0100
TZNAME:BST
DTSTART:20190331T010000
END:DAYLIGHT
BEGIN:STANDARD
TZOFFSETFROM:+0100
TZOFFSETTO:+0000
TZNAME:GMT
DTSTART:20191027T010000
END:STANDARD
BEGIN:DAYLIGHT
TZOFFSETFROM:+0000
TZOFFSETTO:+0100
TZNAME:BST
DTSTART:20200329T010000
END:DAYLIGHT
BEGIN:STANDARD
TZOFFSETFROM:+0100
TZOFFSETTO:+0000
TZNAME:GMT
DTSTART:20201025T010000
END:STANDARD
END:VTIMEZONE
BEGIN:VEVENT
DTSTART;TZID=Europe/London:20191123T143000
DTEND;TZID=Europe/London:20191123T163000
DTSTAMP:20260424T220434
CREATED:20191014T225317Z
LAST-MODIFIED:20191014T225317Z
UID:4853-1574519400-1574526600@penfightdistro.com
SUMMARY:Zine Club: Winter Survival
DESCRIPTION:This will take place at Manchester Art Gallery\, in Studio One (on the ground floor). \nThis zine club will be themed on WINTER SURVIVAL. How do get through the short dark winter days? What are your self-care tips? What plans and projects do you have planned this year? What do you love about winter? Let’s get together\, get cosy and get making. \nZine Club is a space where anyone can read\, make zines\, collaborate\, be shown what a zine is and how to make one\, work on an existing project\, or ask more seasoned zine-makers any practical questions. \nJust come and have a nice hang out and a chat with us! Zines to read and materials will be provided\, but feel free to bring along anything you might want to use or donate. \nAll welcome. Zine Club is FREE but donations will be very welcome to cover materials. \n\nACCESSIBILITY:\nThe main entrance faces Mosley Street\, and there is a ramp to the left as you face the main entrance. Wheelchair and buggy access is via the Nicholas Street ramp to the main entrance. You can borrow manual wheelchairs in the entrance hall. There is a wheelchair lift at the groups entrance on Princess Street. \nThe gallery is completely accessible for wheelchairs and buggies. There are accessible toilets on the ground and first floors and baby changing facilities on the ground floor. There are lifts to all floors. The gallery has additional accessibility information here. Contact us on info@nice-time.co.uk for any additional information or requests. \nTRANSPORT:\nBy Car – There are three disabled parking spaces on Nicholas Street\, approximately 10 metres from the ramped access to the main entrance. Otherwise\, car parking is available at the NCP car parks on Chepstow Street\, Faulkner Street or Sackville Street. All are within five minutes of the gallery. \nBy Public Transport – The nearest tram stops are St Peter’s Square (a 2-minute walk) or Market Street (5-minute walk). Both are on the Altrincham and Eccles lines. The nearest bus stops are in Piccadilly Gardens (6-minute walk) or on Princess Street (1-minute walk).
URL:https://penfightdistro.com/zine-event/zine-club-winter-survival/
LOCATION:Manchester Art Gallery\, Mosley Street\, Manchester\, M2 3JL\, United Kingdom
CATEGORIES:Zine Club
ATTACH;FMTTYPE=image/jpeg:https://penfightdistro.com/wp-content/uploads/2017/09/zine-club-logo.jpg
ORGANIZER;CN="Pen Fight":MAILTO:penfightdistro@gmail.com
END:VEVENT
END:VCALENDAR