BEGIN:VCALENDAR
VERSION:2.0
PRODID:-//pen fight - ECPv6.15.20//NONSGML v1.0//EN
CALSCALE:GREGORIAN
METHOD:PUBLISH
X-WR-CALNAME:pen fight
X-ORIGINAL-URL:https://penfightdistro.com
X-WR-CALDESC:Events for pen fight
REFRESH-INTERVAL;VALUE=DURATION:PT1H
X-Robots-Tag:noindex
X-PUBLISHED-TTL:PT1H
BEGIN:VTIMEZONE
TZID:Europe/London
BEGIN:DAYLIGHT
TZOFFSETFROM:+0000
TZOFFSETTO:+0100
TZNAME:BST
DTSTART:20180325T010000
END:DAYLIGHT
BEGIN:STANDARD
TZOFFSETFROM:+0100
TZOFFSETTO:+0000
TZNAME:GMT
DTSTART:20181028T010000
END:STANDARD
BEGIN:DAYLIGHT
TZOFFSETFROM:+0000
TZOFFSETTO:+0100
TZNAME:BST
DTSTART:20190331T010000
END:DAYLIGHT
BEGIN:STANDARD
TZOFFSETFROM:+0100
TZOFFSETTO:+0000
TZNAME:GMT
DTSTART:20191027T010000
END:STANDARD
BEGIN:DAYLIGHT
TZOFFSETFROM:+0000
TZOFFSETTO:+0100
TZNAME:BST
DTSTART:20200329T010000
END:DAYLIGHT
BEGIN:STANDARD
TZOFFSETFROM:+0100
TZOFFSETTO:+0000
TZNAME:GMT
DTSTART:20201025T010000
END:STANDARD
END:VTIMEZONE
BEGIN:VEVENT
DTSTART;TZID=Europe/London:20191014T080000
DTEND;TZID=Europe/London:20191014T170000
DTSTAMP:20260424T231318
CREATED:20191014T130902Z
LAST-MODIFIED:20191014T130902Z
UID:4811-1571040000-1571072400@penfightdistro.com
SUMMARY:Zine making workshop with Shy Bairns
DESCRIPTION:To coincide with their exhibition Fanspeak\, collective Shy Bairns invite you to join them for an afternoon zine making workshop. Situated within the exhibition’s zine library\, we will explore the history of zine making and methods of zine production. Attendees will work collaboratively alongside Shy Bairns to produce a new zine for display within the exhibition. \nThe workshop will be relaxed\, seating and materials will be provided. Suitable for ages 14+. \nTickets: £5 or free for low-income participants or access support workers. Pre-booking essential at Eventbrite \nImage: courtesy Shy Bairns
URL:https://penfightdistro.com/zine-event/zine-making-workshop-with-shy-bairns/
LOCATION:Castlefield Gallery\, 2 Hewitt Street\, Manchester\, M15 4GB\, United Kingdom
CATEGORIES:Workshops
ATTACH;FMTTYPE=image/jpeg:https://penfightdistro.com/wp-content/uploads/2019/10/71836431_10157455224536380_5053765889808138240_n.jpg
END:VEVENT
END:VCALENDAR