BEGIN:VCALENDAR
VERSION:2.0
PRODID:-//pen fight - ECPv6.15.20//NONSGML v1.0//EN
CALSCALE:GREGORIAN
METHOD:PUBLISH
X-ORIGINAL-URL:https://penfightdistro.com
X-WR-CALDESC:Events for pen fight
REFRESH-INTERVAL;VALUE=DURATION:PT1H
X-Robots-Tag:noindex
X-PUBLISHED-TTL:PT1H
BEGIN:VTIMEZONE
TZID:Europe/London
BEGIN:DAYLIGHT
TZOFFSETFROM:+0000
TZOFFSETTO:+0100
TZNAME:BST
DTSTART:20170326T010000
END:DAYLIGHT
BEGIN:STANDARD
TZOFFSETFROM:+0100
TZOFFSETTO:+0000
TZNAME:GMT
DTSTART:20171029T010000
END:STANDARD
BEGIN:DAYLIGHT
TZOFFSETFROM:+0000
TZOFFSETTO:+0100
TZNAME:BST
DTSTART:20180325T010000
END:DAYLIGHT
BEGIN:STANDARD
TZOFFSETFROM:+0100
TZOFFSETTO:+0000
TZNAME:GMT
DTSTART:20181028T010000
END:STANDARD
BEGIN:DAYLIGHT
TZOFFSETFROM:+0000
TZOFFSETTO:+0100
TZNAME:BST
DTSTART:20190331T010000
END:DAYLIGHT
BEGIN:STANDARD
TZOFFSETFROM:+0100
TZOFFSETTO:+0000
TZNAME:GMT
DTSTART:20191027T010000
END:STANDARD
END:VTIMEZONE
BEGIN:VEVENT
DTSTART;TZID=Europe/London:20180202T200000
DTEND;TZID=Europe/London:20180202T223000
DTSTAMP:20260424T205040
CREATED:20180115T185731Z
LAST-MODIFIED:20180115T185731Z
UID:2682-1517601600-1517610600@penfightdistro.com
SUMMARY:Zine Launch - The End of The Runt
DESCRIPTION:Apocalypse How? Apocalypse Wow! \nThe Runt is celebrating the upcoming end of the world as we know it (any day now) with the launch of our 11th issue. So come along for a flood of apocalypse-themed stories and poems! And have your say in determining post-apocalyptic society by deciding which aspects of our beleaguered culture we should keep and which ones we should leave lying in the irradiated\, roach-invested ashes! \nKeep your ears alert for the doomsday whistle emanating from this page as we announce more news about our performers and more. \n€4 Entry & a copy of the zine
URL:https://penfightdistro.com/zine-event/zine-launch-the-end-of-the-runt/
LOCATION:Anseo Camden Street\, 18 Camden Street Lower\, Saint Kevin's\, Dublin\, Ireland
CATEGORIES:Zine Launch
ATTACH;FMTTYPE=image/jpeg:https://penfightdistro.com/wp-content/uploads/2018/01/26733338_1715057595200609_6793971557024702550_n.jpg
END:VEVENT
END:VCALENDAR