BEGIN:VCALENDAR
VERSION:2.0
PRODID:-//pen fight - ECPv6.15.20//NONSGML v1.0//EN
CALSCALE:GREGORIAN
METHOD:PUBLISH
X-WR-CALNAME:pen fight
X-ORIGINAL-URL:https://penfightdistro.com
X-WR-CALDESC:Events for pen fight
REFRESH-INTERVAL;VALUE=DURATION:PT1H
X-Robots-Tag:noindex
X-PUBLISHED-TTL:PT1H
BEGIN:VTIMEZONE
TZID:Europe/London
BEGIN:DAYLIGHT
TZOFFSETFROM:+0000
TZOFFSETTO:+0100
TZNAME:BST
DTSTART:20170326T010000
END:DAYLIGHT
BEGIN:STANDARD
TZOFFSETFROM:+0100
TZOFFSETTO:+0000
TZNAME:GMT
DTSTART:20171029T010000
END:STANDARD
BEGIN:DAYLIGHT
TZOFFSETFROM:+0000
TZOFFSETTO:+0100
TZNAME:BST
DTSTART:20180325T010000
END:DAYLIGHT
BEGIN:STANDARD
TZOFFSETFROM:+0100
TZOFFSETTO:+0000
TZNAME:GMT
DTSTART:20181028T010000
END:STANDARD
BEGIN:DAYLIGHT
TZOFFSETFROM:+0000
TZOFFSETTO:+0100
TZNAME:BST
DTSTART:20190331T010000
END:DAYLIGHT
BEGIN:STANDARD
TZOFFSETFROM:+0100
TZOFFSETTO:+0000
TZNAME:GMT
DTSTART:20191027T010000
END:STANDARD
END:VTIMEZONE
BEGIN:VEVENT
DTSTART;TZID=Europe/London:20180127T080000
DTEND;TZID=Europe/London:20180128T170000
DTSTAMP:20260425T225456
CREATED:20180112T160638Z
LAST-MODIFIED:20180112T160638Z
UID:2654-1517040000-1517158800@penfightdistro.com
SUMMARY:Ground Zine Fair
DESCRIPTION:GROUND ZINE FAIR 2 \nA Zine is a DIY book/magazine/pamphlet.\nAt GZF2 there’ll be a whole lot of zines\, and their creators\, from Hull\, Leeds\, Manchester\, London\, Denmark and Norway. \nSarurday & Sunday 27th & 28th \nALL WELCOME!!!
URL:https://penfightdistro.com/zine-event/ground-zine-fair/
LOCATION:Ground\, 60 Beverley Road\, Hull\, HU5 1JJ \, United Kingdom
CATEGORIES:Zine Fair
ATTACH;FMTTYPE=image/jpeg:https://penfightdistro.com/wp-content/uploads/2018/01/26219642_1925752567678222_2790346418673145189_n.jpg
END:VEVENT
END:VCALENDAR