BEGIN:VCALENDAR
VERSION:2.0
PRODID:-//pen fight - ECPv6.15.20//NONSGML v1.0//EN
CALSCALE:GREGORIAN
METHOD:PUBLISH
X-ORIGINAL-URL:https://penfightdistro.com
X-WR-CALDESC:Events for pen fight
REFRESH-INTERVAL;VALUE=DURATION:PT1H
X-Robots-Tag:noindex
X-PUBLISHED-TTL:PT1H
BEGIN:VTIMEZONE
TZID:Europe/London
BEGIN:DAYLIGHT
TZOFFSETFROM:+0000
TZOFFSETTO:+0100
TZNAME:BST
DTSTART:20180325T010000
END:DAYLIGHT
BEGIN:STANDARD
TZOFFSETFROM:+0100
TZOFFSETTO:+0000
TZNAME:GMT
DTSTART:20181028T010000
END:STANDARD
BEGIN:DAYLIGHT
TZOFFSETFROM:+0000
TZOFFSETTO:+0100
TZNAME:BST
DTSTART:20190331T010000
END:DAYLIGHT
BEGIN:STANDARD
TZOFFSETFROM:+0100
TZOFFSETTO:+0000
TZNAME:GMT
DTSTART:20191027T010000
END:STANDARD
BEGIN:DAYLIGHT
TZOFFSETFROM:+0000
TZOFFSETTO:+0100
TZNAME:BST
DTSTART:20200329T010000
END:DAYLIGHT
BEGIN:STANDARD
TZOFFSETFROM:+0100
TZOFFSETTO:+0000
TZNAME:GMT
DTSTART:20201025T010000
END:STANDARD
END:VTIMEZONE
BEGIN:VEVENT
DTSTART;TZID=Europe/London:20190113T163000
DTEND;TZID=Europe/London:20190113T193000
DTSTAMP:20260425T000809
CREATED:20190105T142656Z
LAST-MODIFIED:20190105T142704Z
UID:3177-1547397000-1547407800@penfightdistro.com
SUMMARY:Zinemongers of Lincoln: January Zine Workshop
DESCRIPTION:What on earth is a zine? A zine is a small\, self published booklet or magazine often written by hand and reproduced through the power of the photocopier. They can be filled with art\, poetry or just your random thoughts. \nWe’ll have craft supplies and zine nerds on hand to help you create something or work on a project you already have. \nAlready make your own zines? Need advice on binding? Got an idea for a collaboration? We’ll also have a table where you can sell your creations and trade with other zinesters. \nJoin us on this wintry Sunday afternoon in the new year. We’ll have zine making supplies\, our trust photocopier\, friendly faces\, tasty drinks and snacks waiting for you.
URL:https://penfightdistro.com/zine-event/zinemongers-of-lincoln-january-zine-workshop/
LOCATION:The Joiners Arms\, 4-6 Victoria St\, Lincoln\, LN11HU\, United Kingdom
CATEGORIES:Workshops,Zine Social
ATTACH;FMTTYPE=image/jpeg:https://penfightdistro.com/wp-content/uploads/2019/01/47220458_346529562745736_8821637623668801536_n.jpg
END:VEVENT
END:VCALENDAR