BEGIN:VCALENDAR
VERSION:2.0
PRODID:-//pen fight - ECPv6.15.20//NONSGML v1.0//EN
CALSCALE:GREGORIAN
METHOD:PUBLISH
X-WR-CALNAME:pen fight
X-ORIGINAL-URL:https://penfightdistro.com
X-WR-CALDESC:Events for pen fight
REFRESH-INTERVAL;VALUE=DURATION:PT1H
X-Robots-Tag:noindex
X-PUBLISHED-TTL:PT1H
BEGIN:VTIMEZONE
TZID:Europe/London
BEGIN:DAYLIGHT
TZOFFSETFROM:+0000
TZOFFSETTO:+0100
TZNAME:BST
DTSTART:20200329T010000
END:DAYLIGHT
BEGIN:STANDARD
TZOFFSETFROM:+0100
TZOFFSETTO:+0000
TZNAME:GMT
DTSTART:20201025T010000
END:STANDARD
BEGIN:DAYLIGHT
TZOFFSETFROM:+0000
TZOFFSETTO:+0100
TZNAME:BST
DTSTART:20210328T010000
END:DAYLIGHT
BEGIN:STANDARD
TZOFFSETFROM:+0100
TZOFFSETTO:+0000
TZNAME:GMT
DTSTART:20211031T010000
END:STANDARD
BEGIN:DAYLIGHT
TZOFFSETFROM:+0000
TZOFFSETTO:+0100
TZNAME:BST
DTSTART:20220327T010000
END:DAYLIGHT
BEGIN:STANDARD
TZOFFSETFROM:+0100
TZOFFSETTO:+0000
TZNAME:GMT
DTSTART:20221030T010000
END:STANDARD
END:VTIMEZONE
BEGIN:VEVENT
DTSTART;TZID=Europe/London:20211217T180000
DTEND;TZID=Europe/London:20211217T193000
DTSTAMP:20260421T093837
CREATED:20211205T221921Z
LAST-MODIFIED:20211205T221921Z
UID:15031-1639764000-1639769400@penfightdistro.com
SUMMARY:REBEL DYKES Zine Making Workshop
DESCRIPTION:Book tickets here\n\nTo accompany the screening of the documentary REBEL DYKES at 8.30pm\, Edinburgh Filmhouse\, join the pre-screening zine making workshop\n\n\n\n\n\nAbout this event\n\n\nOn Friday 17 December\, the REBEL DYKES are in Edinburgh! \nTo accompany the screening of the hit documentary at 8.30pm\, Edinburgh Filmhouse all ticket holders can attend a REBEL DYKES themed zine-making workshop at Leith Hall\, Nicolson Square hosted by Edinburgh Zine Library. \nThe zine-making workshop will be themed around producer and orgional Rebel Dyke Siobhan Fahey’s REBEL DYKES archive. Siobhan will also be taking part in the workshop. \nMaterials provided\, all ticket holders welcome\, regardless of artistic ability. \n  \nAbout the film: \nOne of the hits of 2021 BFI Flare Festival\, Rebel Dykes follows a tight-knit group of friends who met at Greenham Common peace camp and became artists\, performers\, musicians and activists in London. A hot\, heady\, punky\, sexy mash-up of animation\, previously unseen rare archive footage and new interviews tells the story of a radical scene: squatters\, BDSM nightclubs\, anti-Thatcher rallies\, protests demanding action around AIDS and the fierce ties of chosen families. Co-directors Harri Shanahan and Siân A. William have created one of the most innovative and inspiring debut documentaries of 2021. \n  \nThe zine making workshop is available to all ticket holders of the REBEL DYKES screening at Edinburgh Filmhouse on 17 Dec\, 8.30pm. To buy tickets to the screening. Buy tickets to the screening here.
URL:https://penfightdistro.com/zine-event/rebel-dykes-zine-making-workshop/
LOCATION:Leith Hall\, Leigh Hall\, Nicolson Square\, Edinburgh\, EH8\, United Kingdom
CATEGORIES:Workshops
ATTACH;FMTTYPE=image/jpeg:https://penfightdistro.com/wp-content/uploads/2021/12/https___cdn.evbuc_.com_images_195924969_36287021446_1_original.jpg
END:VEVENT
END:VCALENDAR