BEGIN:VCALENDAR
VERSION:2.0
PRODID:-//pen fight - ECPv6.15.20//NONSGML v1.0//EN
CALSCALE:GREGORIAN
METHOD:PUBLISH
X-ORIGINAL-URL:https://penfightdistro.com
X-WR-CALDESC:Events for pen fight
REFRESH-INTERVAL;VALUE=DURATION:PT1H
X-Robots-Tag:noindex
X-PUBLISHED-TTL:PT1H
BEGIN:VTIMEZONE
TZID:Europe/London
BEGIN:DAYLIGHT
TZOFFSETFROM:+0000
TZOFFSETTO:+0100
TZNAME:BST
DTSTART:20190331T010000
END:DAYLIGHT
BEGIN:STANDARD
TZOFFSETFROM:+0100
TZOFFSETTO:+0000
TZNAME:GMT
DTSTART:20191027T010000
END:STANDARD
BEGIN:DAYLIGHT
TZOFFSETFROM:+0000
TZOFFSETTO:+0100
TZNAME:BST
DTSTART:20200329T010000
END:DAYLIGHT
BEGIN:STANDARD
TZOFFSETFROM:+0100
TZOFFSETTO:+0000
TZNAME:GMT
DTSTART:20201025T010000
END:STANDARD
BEGIN:DAYLIGHT
TZOFFSETFROM:+0000
TZOFFSETTO:+0100
TZNAME:BST
DTSTART:20210328T010000
END:DAYLIGHT
BEGIN:STANDARD
TZOFFSETFROM:+0100
TZOFFSETTO:+0000
TZNAME:GMT
DTSTART:20211031T010000
END:STANDARD
END:VTIMEZONE
BEGIN:VEVENT
DTSTART;TZID=Europe/London:20200228T080000
DTEND;TZID=Europe/London:20200228T170000
DTSTAMP:20260422T052919
CREATED:20200228T211810Z
LAST-MODIFIED:20200228T211810Z
UID:10855-1582876800-1582909200@penfightdistro.com
SUMMARY:Zine Workshop with Edinburgh Zine Library
DESCRIPTION:We are delighted to announce that Edinburgh Zine Library are holding a zine workshop for SX Scotland.\n\n\n\n\n\n\nAbout this Event\n\n\nThis workshop is for Gay and Bisexual men and all men who have sex with men. This is inclusive of both Cis and Trans men. \nZines are handmade pamphlets often crafted by minority voices. Please join us to learn about zines and how to make your own at the event. Free to attend but booking essential. \nTo find out more about SX or the Edinburgh Zine Library\, follow these links below. \nwww.s-x.scot \nSX is about improving the sex\, health and wellbeing of gay and bisexual men\, and all men who have sex with men living in Scotland. \nWe are proud to be part of the LGBTQ+ community\, and we aim to reflect the diversity of the people we work with. \nhttp://edinburghzinelibrary.com/
URL:https://penfightdistro.com/zine-event/zine-workshop-with-edinburgh-zine-library/
CATEGORIES:Workshops
ATTACH;FMTTYPE=image/jpeg:https://penfightdistro.com/wp-content/uploads/2020/02/https___cdn.evbuc_.com_images_94240791_289069268950_1_original.jpg
END:VEVENT
END:VCALENDAR