BEGIN:VCALENDAR
VERSION:2.0
PRODID:-//pen fight - ECPv6.15.20//NONSGML v1.0//EN
CALSCALE:GREGORIAN
METHOD:PUBLISH
X-ORIGINAL-URL:https://penfightdistro.com
X-WR-CALDESC:Events for pen fight
REFRESH-INTERVAL;VALUE=DURATION:PT1H
X-Robots-Tag:noindex
X-PUBLISHED-TTL:PT1H
BEGIN:VTIMEZONE
TZID:Europe/London
BEGIN:DAYLIGHT
TZOFFSETFROM:+0000
TZOFFSETTO:+0100
TZNAME:BST
DTSTART:20180325T010000
END:DAYLIGHT
BEGIN:STANDARD
TZOFFSETFROM:+0100
TZOFFSETTO:+0000
TZNAME:GMT
DTSTART:20181028T010000
END:STANDARD
BEGIN:DAYLIGHT
TZOFFSETFROM:+0000
TZOFFSETTO:+0100
TZNAME:BST
DTSTART:20190331T010000
END:DAYLIGHT
BEGIN:STANDARD
TZOFFSETFROM:+0100
TZOFFSETTO:+0000
TZNAME:GMT
DTSTART:20191027T010000
END:STANDARD
BEGIN:DAYLIGHT
TZOFFSETFROM:+0000
TZOFFSETTO:+0100
TZNAME:BST
DTSTART:20200329T010000
END:DAYLIGHT
BEGIN:STANDARD
TZOFFSETFROM:+0100
TZOFFSETTO:+0000
TZNAME:GMT
DTSTART:20201025T010000
END:STANDARD
END:VTIMEZONE
BEGIN:VEVENT
DTSTART;TZID=Europe/London:20191005T140000
DTEND;TZID=Europe/London:20191005T160000
DTSTAMP:20260422T111303
CREATED:20190925T133337Z
LAST-MODIFIED:20190925T133337Z
UID:4218-1570284000-1570291200@penfightdistro.com
SUMMARY:Zine Making Workshop
DESCRIPTION:BOOK TICKETS DIRECTLY WITH THE ORGANISER HERE \nSaturday 5 October 2019\, 2-4pm. Free. 15 places for 16-25 year olds \nLocation: The Edinburgh Zine Library\, Edinburgh Central Library\, 7-9 George IV Bridge\, Edinburgh\, EH1 1EG \nPool your ideas to make pages for a collective zine about your experiences of buildings and the art you’ve seen in the visits programme\, led by artists from the Edinburgh Zine Library. Along with creating zine content\, the session includes design tasks such as titling\, layout\, colour and paper selection\, so there’s something for everyone interested in zines even if you’ve haven’t attended all of the visits as part of the programme.
URL:https://penfightdistro.com/zine-event/zine-making-workshop-4/
LOCATION:Edinburgh Central Library\, 7-9 George IV Bridge\, Edinburgh\, EH1 1EG\, United Kingdom
CATEGORIES:Workshops
ATTACH;FMTTYPE=image/jpeg:https://penfightdistro.com/wp-content/uploads/2019/09/https___cdn.evbuc_.com_images_66967951_3745062203_1_original.jpg
END:VEVENT
BEGIN:VEVENT
DTSTART;TZID=Europe/London:20191019T140000
DTEND;TZID=Europe/London:20191019T190000
DTSTAMP:20260422T111303
CREATED:20190925T133124Z
LAST-MODIFIED:20190925T133124Z
UID:4214-1571493600-1571511600@penfightdistro.com
SUMMARY:Zine Production
DESCRIPTION:BOOK TICKETS WITH THE ORGANISERS HERE \nFree. 15 places for 16-25 year olds \n2-4pm: Finish Zines at Out of the Blueprint\, Out of the Blue Drill Hall\, 36 Dalmeny Street\, Edinburgh\, EH6 8RG \nGet hands-on with the zine production process\, folding\, binding and getting the publications ready for the launch event. Risograph printing is an eco-friendly print process with a unique aesthetic. Invented in Japan in the 1980s\, it’s popular with graphic designers\, artists and illustrators and perfect for flyers\, posters\, comics and of course zines. \nIn this session you’ll see the results of your risograph printed work\, get an insight into the print process and make the final touches to the zines.We \n4-6pm: Set up zine display at pop up shop\, Waverley Mall\, 3 Waverley Bridge\, Edinburgh\, EH1 1BQ \nDisplay your printed zines in then relax with pizza before the public launch to celebrate with friends and family. \n6-7pm: Public Launch
URL:https://penfightdistro.com/zine-event/zine-production/
LOCATION:Out of the Blueprint\, 36 Dalmeny Street\, Edinburgh\, EH6 8RG\, United Kingdom
CATEGORIES:Workshops
ATTACH;FMTTYPE=image/jpeg:https://penfightdistro.com/wp-content/uploads/2019/09/https___cdn.evbuc_.com_images_67242353_3745062203_1_original.jpg
END:VEVENT
END:VCALENDAR