BEGIN:VCALENDAR
VERSION:2.0
PRODID:-//pen fight - ECPv6.15.20//NONSGML v1.0//EN
CALSCALE:GREGORIAN
METHOD:PUBLISH
X-ORIGINAL-URL:https://penfightdistro.com
X-WR-CALDESC:Events for pen fight
REFRESH-INTERVAL;VALUE=DURATION:PT1H
X-Robots-Tag:noindex
X-PUBLISHED-TTL:PT1H
BEGIN:VTIMEZONE
TZID:Europe/London
BEGIN:DAYLIGHT
TZOFFSETFROM:+0000
TZOFFSETTO:+0100
TZNAME:BST
DTSTART:20170326T010000
END:DAYLIGHT
BEGIN:STANDARD
TZOFFSETFROM:+0100
TZOFFSETTO:+0000
TZNAME:GMT
DTSTART:20171029T010000
END:STANDARD
BEGIN:DAYLIGHT
TZOFFSETFROM:+0000
TZOFFSETTO:+0100
TZNAME:BST
DTSTART:20180325T010000
END:DAYLIGHT
BEGIN:STANDARD
TZOFFSETFROM:+0100
TZOFFSETTO:+0000
TZNAME:GMT
DTSTART:20181028T010000
END:STANDARD
BEGIN:DAYLIGHT
TZOFFSETFROM:+0000
TZOFFSETTO:+0100
TZNAME:BST
DTSTART:20190331T010000
END:DAYLIGHT
BEGIN:STANDARD
TZOFFSETFROM:+0100
TZOFFSETTO:+0000
TZNAME:GMT
DTSTART:20191027T010000
END:STANDARD
END:VTIMEZONE
BEGIN:VEVENT
DTSTART;TZID=Europe/London:20180721T120000
DTEND;TZID=Europe/London:20180721T170000
DTSTAMP:20260423T081022
CREATED:20180523T132150Z
LAST-MODIFIED:20180523T132150Z
UID:2819-1532174400-1532192400@penfightdistro.com
SUMMARY:Indie Book & Zine Fair Edinburgh
DESCRIPTION:Newsflash: we have a venue! The fair will take place at Out of the Blue Drill Hall\, Dalmeny Street\, Edinburgh\, on 21 July 2018\, 12-5pm. Message/email me (rosalind.gibb@gmail.com) if you’re interested in having a stall. Get the date in your diary. Come and discover new print publications and celebrate DIY publishing. Plus have a cuppa in the cafe and check out work done by the brilliant Out of the Blueprint risograph print studio. Keep an eye on this page for updates in the coming weeks and hope to see you there 
URL:https://penfightdistro.com/zine-event/indie-book-zine-fair-edinburgh/
LOCATION:Out of the Blue Drill Hall\, Dalmeny Street\, Edinburgh\, EH6 8RG\, United Kingdom
CATEGORIES:Book or Art fair,Zine Fair
ATTACH;FMTTYPE=image/jpeg:https://penfightdistro.com/wp-content/uploads/2018/05/32803939_575087012873755_2601027667562070016_n.jpg
END:VEVENT
END:VCALENDAR