BEGIN:VCALENDAR
VERSION:2.0
PRODID:-//pen fight - ECPv6.15.20//NONSGML v1.0//EN
CALSCALE:GREGORIAN
METHOD:PUBLISH
X-WR-CALNAME:pen fight
X-ORIGINAL-URL:https://penfightdistro.com
X-WR-CALDESC:Events for pen fight
REFRESH-INTERVAL;VALUE=DURATION:PT1H
X-Robots-Tag:noindex
X-PUBLISHED-TTL:PT1H
BEGIN:VTIMEZONE
TZID:Europe/London
BEGIN:DAYLIGHT
TZOFFSETFROM:+0000
TZOFFSETTO:+0100
TZNAME:BST
DTSTART:20170326T010000
END:DAYLIGHT
BEGIN:STANDARD
TZOFFSETFROM:+0100
TZOFFSETTO:+0000
TZNAME:GMT
DTSTART:20171029T010000
END:STANDARD
BEGIN:DAYLIGHT
TZOFFSETFROM:+0000
TZOFFSETTO:+0100
TZNAME:BST
DTSTART:20180325T010000
END:DAYLIGHT
BEGIN:STANDARD
TZOFFSETFROM:+0100
TZOFFSETTO:+0000
TZNAME:GMT
DTSTART:20181028T010000
END:STANDARD
BEGIN:DAYLIGHT
TZOFFSETFROM:+0000
TZOFFSETTO:+0100
TZNAME:BST
DTSTART:20190331T010000
END:DAYLIGHT
BEGIN:STANDARD
TZOFFSETFROM:+0100
TZOFFSETTO:+0000
TZNAME:GMT
DTSTART:20191027T010000
END:STANDARD
END:VTIMEZONE
BEGIN:VEVENT
DTSTART;TZID=Europe/London:20180611T173000
DTEND;TZID=Europe/London:20180611T193000
DTSTAMP:20260423T093455
CREATED:20180523T131608Z
LAST-MODIFIED:20180523T131724Z
UID:2814-1528738200-1528745400@penfightdistro.com
SUMMARY:But I'm a Cheerleader Zine Workshop
DESCRIPTION:A free zine making workshop as part of the LEAP festival fortnight exploring and celebrating LGBTQI experiences in sport. \nJoin the Edinburgh Zine Library to create zines\, share your experiences of sport\, and explore LGBTQI and human rights issues. \nMake a fanzine about your favourite LGBTQI players! Shout out about the sport you love! Explore your inexplicable teenage obsession with Bend It Like Beckham! This is great chance to explore and share your experiences\, positive\, negative or some complicated mix of the two\, in a supportive and creative environment. \nWe’ll have zines from the collection for you to read for inspiration and during the workshop we’ll show you how to make your own mini-zine\, and work together to produce a collaborative zine you can take home with you. All materials are provided. \nThis event is part of the LEAP Sports Scotland festival fortnight. \nThe George Washington Browne room is on the lower floor of the Central Library. There is a lift with level access. If you have any questions about the accessibility of the room\, or are anxious about attending and want to get in touch\, contact us at edinburghzinelibrary@gmail.com \nThis event is run by and for members of the LGBTQI community – we won’t be asking for proof on the door\, but please be a good ally and if you’re not LGBTQI make space for members of this community to attend. \nChildren and young people under 16 who want to attend need to be accompanied by a parent or guardian. If you want to attend and you have children\, please feel free to bring them. We will have some fun creative zine activities to keep them entertained! \nEdinburgh Zine Library has a safe space agreement available to read on our website\, if you have any questions\, concerns or suggestions please get in touch!
URL:https://penfightdistro.com/zine-event/but-im-a-cheerleader-zine-workshop/
LOCATION:Edinburgh Central Library\, 7-9 George IV Bridge\, Edinburgh\, EH1 1EG\, United Kingdom
CATEGORIES:Workshops
ATTACH;FMTTYPE=image/jpeg:https://penfightdistro.com/wp-content/uploads/2018/05/31945823_374633789716731_841431020099076096_n.jpg
END:VEVENT
BEGIN:VEVENT
DTSTART;TZID=Europe/London:20180617T120000
DTEND;TZID=Europe/London:20180617T180000
DTSTAMP:20260423T093455
CREATED:20180523T141608Z
LAST-MODIFIED:20180523T141608Z
UID:2868-1529236800-1529258400@penfightdistro.com
SUMMARY:Second Ever Cameo Zine Fair
DESCRIPTION:We’re happy to announce our summer zine fair! \nCome down to our bar on Sunday the 17th for a host of local artistic talent\, with a couple friends coming in from out of town as well. \nIf you are interested in presenting your work at the fair (or know someone who would be) get in touch at cameozinefair@gmail.com
URL:https://penfightdistro.com/zine-event/second-ever-cameo-zine-fair/
LOCATION:Cameo Cinema\, 38 Home Street\, Edinburgh\, EH39LZ\, United Kingdom
CATEGORIES:Zine Fair
ATTACH;FMTTYPE=image/jpeg:https://penfightdistro.com/wp-content/uploads/2018/05/33107371_10160021210485538_6358774290900320256_n.jpg
END:VEVENT
END:VCALENDAR