BEGIN:VCALENDAR
VERSION:2.0
PRODID:-//pen fight - ECPv6.15.20//NONSGML v1.0//EN
CALSCALE:GREGORIAN
METHOD:PUBLISH
X-ORIGINAL-URL:https://penfightdistro.com
X-WR-CALDESC:Events for pen fight
REFRESH-INTERVAL;VALUE=DURATION:PT1H
X-Robots-Tag:noindex
X-PUBLISHED-TTL:PT1H
BEGIN:VTIMEZONE
TZID:Europe/London
BEGIN:DAYLIGHT
TZOFFSETFROM:+0000
TZOFFSETTO:+0100
TZNAME:BST
DTSTART:20160327T010000
END:DAYLIGHT
BEGIN:STANDARD
TZOFFSETFROM:+0100
TZOFFSETTO:+0000
TZNAME:GMT
DTSTART:20161030T010000
END:STANDARD
BEGIN:DAYLIGHT
TZOFFSETFROM:+0000
TZOFFSETTO:+0100
TZNAME:BST
DTSTART:20170326T010000
END:DAYLIGHT
BEGIN:STANDARD
TZOFFSETFROM:+0100
TZOFFSETTO:+0000
TZNAME:GMT
DTSTART:20171029T010000
END:STANDARD
BEGIN:DAYLIGHT
TZOFFSETFROM:+0000
TZOFFSETTO:+0100
TZNAME:BST
DTSTART:20180325T010000
END:DAYLIGHT
BEGIN:STANDARD
TZOFFSETFROM:+0100
TZOFFSETTO:+0000
TZNAME:GMT
DTSTART:20181028T010000
END:STANDARD
END:VTIMEZONE
BEGIN:VEVENT
DTSTART;TZID=Europe/London:20171119T130000
DTEND;TZID=Europe/London:20171119T180000
DTSTAMP:20260423T200619
CREATED:20171110T005904Z
LAST-MODIFIED:20171110T005904Z
UID:2542-1511096400-1511114400@penfightdistro.com
SUMMARY:Winter ZINE FAIR w/ Paradise Palms & Crisps
DESCRIPTION:A fabulous feast of self-published goods! \nCome one\, come all\, and browse the delights from an excellent array of local artists (and one anomalous non-local zine team hailing from Cork\, Ireland!). \nStarting from 1pm we’ll be hosting a cosy afternoon of zine browsing/ buying with lots of fantastic stalls\, and will also have a PATCH ATTACH stall with the wonderful Abby J. where you can buy patches by local artists and attach them to things right away! \nAlso present will be the Edinburgh Zine Library\, to chat about the newly set up library\, so if you have any zines you’ve made and want to donate YES bring ’em along.
URL:https://penfightdistro.com/zine-event/winter-zine-fair-w-paradise-palms-crisps/
LOCATION:Paradise Palms\, 41 Lothian Street\, Edinburgh\, EH1 1HB\, United Kingdom
CATEGORIES:Zine Fair
ATTACH;FMTTYPE=image/jpeg:https://penfightdistro.com/wp-content/uploads/2017/11/23244496_1465537473545475_8213883091251228560_n.jpg
END:VEVENT
BEGIN:VEVENT
DTSTART;TZID=Europe/London:20171129T183000
DTEND;TZID=Europe/London:20171129T203000
DTSTAMP:20260423T200619
CREATED:20171102T205333Z
LAST-MODIFIED:20171102T205333Z
UID:2481-1511980200-1511987400@penfightdistro.com
SUMMARY:#2050StartsNow - Zine Making Workshop
DESCRIPTION:Our climate is dramatically changing\, yet where are all our stories to reflect this? We hear about climate change in news reports and scientific studies\, but why is it missing from other narratives – art\, literature\, music. In order to shift to a more just and sustainable society\, what kind of stories should we be telling? As part of Book Week Scotland\, #2050StartsNow – Zine Making Workshop is an interactive\, hands-on session making a one-of-a-kind publication! If you are a young\, creative individual interested in creating a zine around sustainability issues\, come along\, have a drink & get crafty with like-minded people.
URL:https://penfightdistro.com/zine-event/2050startsnow-zine-making-workshop/
LOCATION:Summerhall\, Summerhall Place\, Edinburgh\, EH9 1PL\, United Kingdom
CATEGORIES:Workshops
ATTACH;FMTTYPE=image/jpeg:https://penfightdistro.com/wp-content/uploads/2017/11/https-2F2Fcdn.evbuc_.com2Fimages2F372909502F1643488719892F12Foriginal.jpg
END:VEVENT
END:VCALENDAR