BEGIN:VCALENDAR
VERSION:2.0
PRODID:-//pen fight - ECPv6.15.20//NONSGML v1.0//EN
CALSCALE:GREGORIAN
METHOD:PUBLISH
X-ORIGINAL-URL:https://penfightdistro.com
X-WR-CALDESC:Events for pen fight
REFRESH-INTERVAL;VALUE=DURATION:PT1H
X-Robots-Tag:noindex
X-PUBLISHED-TTL:PT1H
BEGIN:VTIMEZONE
TZID:Europe/London
BEGIN:DAYLIGHT
TZOFFSETFROM:+0000
TZOFFSETTO:+0100
TZNAME:BST
DTSTART:20160327T010000
END:DAYLIGHT
BEGIN:STANDARD
TZOFFSETFROM:+0100
TZOFFSETTO:+0000
TZNAME:GMT
DTSTART:20161030T010000
END:STANDARD
BEGIN:DAYLIGHT
TZOFFSETFROM:+0000
TZOFFSETTO:+0100
TZNAME:BST
DTSTART:20170326T010000
END:DAYLIGHT
BEGIN:STANDARD
TZOFFSETFROM:+0100
TZOFFSETTO:+0000
TZNAME:GMT
DTSTART:20171029T010000
END:STANDARD
BEGIN:DAYLIGHT
TZOFFSETFROM:+0000
TZOFFSETTO:+0100
TZNAME:BST
DTSTART:20180325T010000
END:DAYLIGHT
BEGIN:STANDARD
TZOFFSETFROM:+0100
TZOFFSETTO:+0000
TZNAME:GMT
DTSTART:20181028T010000
END:STANDARD
END:VTIMEZONE
BEGIN:VEVENT
DTSTART;TZID=Europe/London:20170808T170000
DTEND;TZID=Europe/London:20170808T200000
DTSTAMP:20260424T000629
CREATED:20170804T180126Z
LAST-MODIFIED:20170804T180126Z
UID:2086-1502211600-1502222400@penfightdistro.com
SUMMARY:MELON - Art Fair feat Crisps
DESCRIPTION:The Number Shop studios & gallery would like to invite you to our first ART FAIR run in conjunction with CRISPS\, the zine shop of Paradise Palms! \nOur gallery shop is stocked with countless prints\, zines\, comix\, tapes\, ceramics\, stickers and cards from loads of local artists awaiting your perusal. \nWe are also proud to host SOLID BONES\, who will be doing live tattoos\, so do drop in if you need a touch up! \nThroughout the evening our sonic kitchen will be possessed by a number of sound artists performing atmospheric noisescapes throughout the building.\nThis includes Mannequin Factory\, Sleet Walls\, Invisible Maggot\, All-Night Vigil\, Saddo & more! \nOur ART FAIR runs as part of The Number Shop’s exhibition series MELON for the 2017 Edinburgh Art Festival\, which currently holds artworks by Flo Gordon and Joe Coghill in our project spaces. \nThe MELON Art Fair is open to all – join us if you wish to sell some of your own artwork or trade with other artists! \nWe hope you’ll come along for an evening sights\, sounds and smells!
URL:https://penfightdistro.com/zine-event/melon-art-fair-feat-crisps/
LOCATION:The Number Shop\, 188-190 Pleasance\, Edinburgh\, EH8 9RT\, United Kingdom
CATEGORIES:Book or Art fair
END:VEVENT
BEGIN:VEVENT
DTSTART;TZID=Europe/London:20170821T180000
DTEND;TZID=Europe/London:20170821T193000
DTSTAMP:20260424T000629
CREATED:20170804T174715Z
LAST-MODIFIED:20170804T174715Z
UID:2082-1503338400-1503343800@penfightdistro.com
SUMMARY:Edinburgh Zine Library: Open Meeting No.1
DESCRIPTION:Come along to the first Open Meeting of the Edinburgh Zine Library. Learn more about the zines\, the zine library and how to get involved. \nThere’ll be a short presentation (15 minutes) about the ZIne Library Project\, followed by a drop-in and a chance to chat to us about volunteering and other ways to get involved. Bring your own zines if you want to submit them\, bring yourselves. You don’t need any experience\, just an interest in zines\, archiving\, diy cultures\, social history or libraries. The George Washington Browne room is located on the mezzanie adjacent to the music library. If you’re unsure how to find it – ask the lovely people at the library reception\, they’ll be more than happy to help! \nWe want the library to be as accessible as possible so we\, the Edinburgh Zine Library\, operate a safe space policy throughout our organisation and all our meetings – you can have a read of it here if you’re unsure what that means: https://edinburghzinelibrary.wordpress.com/safe-space-agreement/ \nIf you have any questions about the accessibility of the meeting or the meeting room please just ask. We are in the process of checking wheelchair accessibility and will keep the page updated – if you do use a wheelchair or other mobility aid please just let us know and we can easily accomodate you. Although we only accept volunteers and members over the age of 18\, if you have children you are welcome to bring them to this first meeting. \nIf you are unable to attend the meeting (we know festival time can be hectic\, and that unfamiliar group meetings don’t suit everyone) but want to be involved please send us an email: edinburghzinelibrary@gmail.com or a message on facebook and we can arrange individual meetings\, or work to find a way for you to be involved that works for you! \nWe look forward to meeting you all there!
URL:https://penfightdistro.com/zine-event/edinburgh-zine-library-open-meeting-no-1/
LOCATION:Edinburgh Central Library\, 7-9 George IV Bridge\, Edinburgh\, EH1 1EG\, United Kingdom
CATEGORIES:Zine Social
END:VEVENT
END:VCALENDAR