BEGIN:VCALENDAR
VERSION:2.0
PRODID:-//pen fight - ECPv6.15.20//NONSGML v1.0//EN
CALSCALE:GREGORIAN
METHOD:PUBLISH
X-ORIGINAL-URL:https://penfightdistro.com
X-WR-CALDESC:Events for pen fight
REFRESH-INTERVAL;VALUE=DURATION:PT1H
X-Robots-Tag:noindex
X-PUBLISHED-TTL:PT1H
BEGIN:VTIMEZONE
TZID:Europe/London
BEGIN:DAYLIGHT
TZOFFSETFROM:+0000
TZOFFSETTO:+0100
TZNAME:BST
DTSTART:20160327T010000
END:DAYLIGHT
BEGIN:STANDARD
TZOFFSETFROM:+0100
TZOFFSETTO:+0000
TZNAME:GMT
DTSTART:20161030T010000
END:STANDARD
BEGIN:DAYLIGHT
TZOFFSETFROM:+0000
TZOFFSETTO:+0100
TZNAME:BST
DTSTART:20170326T010000
END:DAYLIGHT
BEGIN:STANDARD
TZOFFSETFROM:+0100
TZOFFSETTO:+0000
TZNAME:GMT
DTSTART:20171029T010000
END:STANDARD
BEGIN:DAYLIGHT
TZOFFSETFROM:+0000
TZOFFSETTO:+0100
TZNAME:BST
DTSTART:20180325T010000
END:DAYLIGHT
BEGIN:STANDARD
TZOFFSETFROM:+0100
TZOFFSETTO:+0000
TZNAME:GMT
DTSTART:20181028T010000
END:STANDARD
END:VTIMEZONE
BEGIN:VEVENT
DTSTART;TZID=Europe/London:20170222T130000
DTEND;TZID=Europe/London:20170222T160000
DTSTAMP:20260424T084414
CREATED:20170115T122743Z
LAST-MODIFIED:20170131T181357Z
UID:845-1487768400-1487779200@penfightdistro.com
SUMMARY:Making History: a Feminist Craft Project
DESCRIPTION:Historically\, and in the present day\, women’s achievements and contributions to society have been erased from history – let’s change that! Join us at the Lothian Health Services Archive to explore our materials on women’s history\, and make our own history through a crafty zine-making session. All are welcome! \nIf you can’t make this date\, the same workshop will be repeated on February 20th: https://www.eventbrite.co.uk/e/making-history-a-feminist-craft-project-tickets-31150319444?aff=es2
URL:https://penfightdistro.com/zine-event/making-history-a-feminist-craft-project-2/
LOCATION:Centre For Research\, University of Edinburgh Main Library\, Edinburgh\, EH8 9LJ\, United Kingdom
CATEGORIES:Workshops
END:VEVENT
BEGIN:VEVENT
DTSTART;TZID=Europe/London:20170223T180000
DTEND;TZID=Europe/London:20170223T200000
DTSTAMP:20260424T084414
CREATED:20170115T122157Z
LAST-MODIFIED:20170115T122157Z
UID:834-1487872800-1487880000@penfightdistro.com
SUMMARY:obZine Workshop
DESCRIPTION:The duo behind the new alternative independent publisher 404 Ink\, Heather McDaid and Laura Jones\, will be hosting a zine workshop to help you throw fear out the door and create loudly and with abandon. Ever fancied making your own publication but don’t know where to start? In just a couple of hours you’ll see how easy it can be to create your own zines\, and go home inspired to create more things! \nAll materials will be provided\, all you need to bring are your ideas\, and maybe some playlist recommendations.
URL:https://penfightdistro.com/zine-event/obzine-workshop/
LOCATION:Augustine United Church\, 41 George IV Bridge\, Edinburgh\, EH1 1EL\, United Kingdom
CATEGORIES:Workshops
END:VEVENT
END:VCALENDAR