BEGIN:VCALENDAR
VERSION:2.0
PRODID:-//pen fight - ECPv6.15.20//NONSGML v1.0//EN
CALSCALE:GREGORIAN
METHOD:PUBLISH
X-WR-CALNAME:pen fight
X-ORIGINAL-URL:https://penfightdistro.com
X-WR-CALDESC:Events for pen fight
REFRESH-INTERVAL;VALUE=DURATION:PT1H
X-Robots-Tag:noindex
X-PUBLISHED-TTL:PT1H
BEGIN:VTIMEZONE
TZID:Europe/London
BEGIN:DAYLIGHT
TZOFFSETFROM:+0000
TZOFFSETTO:+0100
TZNAME:BST
DTSTART:20160327T010000
END:DAYLIGHT
BEGIN:STANDARD
TZOFFSETFROM:+0100
TZOFFSETTO:+0000
TZNAME:GMT
DTSTART:20161030T010000
END:STANDARD
BEGIN:DAYLIGHT
TZOFFSETFROM:+0000
TZOFFSETTO:+0100
TZNAME:BST
DTSTART:20170326T010000
END:DAYLIGHT
BEGIN:STANDARD
TZOFFSETFROM:+0100
TZOFFSETTO:+0000
TZNAME:GMT
DTSTART:20171029T010000
END:STANDARD
BEGIN:DAYLIGHT
TZOFFSETFROM:+0000
TZOFFSETTO:+0100
TZNAME:BST
DTSTART:20180325T010000
END:DAYLIGHT
BEGIN:STANDARD
TZOFFSETFROM:+0100
TZOFFSETTO:+0000
TZNAME:GMT
DTSTART:20181028T010000
END:STANDARD
END:VTIMEZONE
BEGIN:VEVENT
DTSTART;TZID=Europe/London:20170120T090000
DTEND;TZID=Europe/London:20170120T120000
DTSTAMP:20260424T100433
CREATED:20170115T122636Z
LAST-MODIFIED:20170131T181334Z
UID:841-1484902800-1484913600@penfightdistro.com
SUMMARY:Making History: a Feminist Craft Project
DESCRIPTION:Historically\, and in the present day\, women’s achievements and contributions to society have been erased from history – let’s change that! Join us at the Lothian Health Services Archive to explore our materials on women’s history\, and make our own history through a crafty zine-making session. All are welcome! \nIf you can’t make this date\, the same workshop will be repeated on February 22nd: https://www.eventbrite.co.uk/e/making-history-a-feminist-craft-project-tickets-31150453846?aff=es2
URL:https://penfightdistro.com/zine-event/making-history-a-feminist-craft-project/
LOCATION:Centre For Research\, University of Edinburgh Main Library\, Edinburgh\, EH8 9LJ\, United Kingdom
CATEGORIES:Workshops
END:VEVENT
END:VCALENDAR