BEGIN:VCALENDAR
VERSION:2.0
PRODID:-//pen fight - ECPv6.15.20//NONSGML v1.0//EN
CALSCALE:GREGORIAN
METHOD:PUBLISH
X-WR-CALNAME:pen fight
X-ORIGINAL-URL:https://penfightdistro.com
X-WR-CALDESC:Events for pen fight
REFRESH-INTERVAL;VALUE=DURATION:PT1H
X-Robots-Tag:noindex
X-PUBLISHED-TTL:PT1H
BEGIN:VTIMEZONE
TZID:Europe/London
BEGIN:DAYLIGHT
TZOFFSETFROM:+0000
TZOFFSETTO:+0100
TZNAME:BST
DTSTART:20150329T010000
END:DAYLIGHT
BEGIN:STANDARD
TZOFFSETFROM:+0100
TZOFFSETTO:+0000
TZNAME:GMT
DTSTART:20151025T010000
END:STANDARD
BEGIN:DAYLIGHT
TZOFFSETFROM:+0000
TZOFFSETTO:+0100
TZNAME:BST
DTSTART:20160327T010000
END:DAYLIGHT
BEGIN:STANDARD
TZOFFSETFROM:+0100
TZOFFSETTO:+0000
TZNAME:GMT
DTSTART:20161030T010000
END:STANDARD
BEGIN:DAYLIGHT
TZOFFSETFROM:+0000
TZOFFSETTO:+0100
TZNAME:BST
DTSTART:20170326T010000
END:DAYLIGHT
BEGIN:STANDARD
TZOFFSETFROM:+0100
TZOFFSETTO:+0000
TZNAME:GMT
DTSTART:20171029T010000
END:STANDARD
END:VTIMEZONE
BEGIN:VEVENT
DTSTART;TZID=Europe/London:20161127T130000
DTEND;TZID=Europe/London:20161127T140000
DTSTAMP:20260424T123443
CREATED:20161108T230445Z
LAST-MODIFIED:20161108T230445Z
UID:481-1480251600-1480255200@penfightdistro.com
SUMMARY:ECAF: She Reads Comics - Zine Workshop
DESCRIPTION:You’ve got one hour\, one sheet of paper and its folded and cut to reveal 8 pages for a mini Zine… your subject is yours to choose.. Go Create! \nSuitable for all ages. Materials supplied. \nLocation: Histology Lab
URL:https://penfightdistro.com/zine-event/ecaf-she-reads-comics-zine-workshop/
LOCATION:Summerhall\, Summerhall Place\, Edinburgh\, EH9 1PL\, United Kingdom
CATEGORIES:Workshops
END:VEVENT
END:VCALENDAR