BEGIN:VCALENDAR
VERSION:2.0
PRODID:-//pen fight - ECPv6.15.20//NONSGML v1.0//EN
CALSCALE:GREGORIAN
METHOD:PUBLISH
X-ORIGINAL-URL:https://penfightdistro.com
X-WR-CALDESC:Events for pen fight
REFRESH-INTERVAL;VALUE=DURATION:PT1H
X-Robots-Tag:noindex
X-PUBLISHED-TTL:PT1H
BEGIN:VTIMEZONE
TZID:Europe/London
BEGIN:DAYLIGHT
TZOFFSETFROM:+0000
TZOFFSETTO:+0100
TZNAME:BST
DTSTART:20170326T010000
END:DAYLIGHT
BEGIN:STANDARD
TZOFFSETFROM:+0100
TZOFFSETTO:+0000
TZNAME:GMT
DTSTART:20171029T010000
END:STANDARD
BEGIN:DAYLIGHT
TZOFFSETFROM:+0000
TZOFFSETTO:+0100
TZNAME:BST
DTSTART:20180325T010000
END:DAYLIGHT
BEGIN:STANDARD
TZOFFSETFROM:+0100
TZOFFSETTO:+0000
TZNAME:GMT
DTSTART:20181028T010000
END:STANDARD
BEGIN:DAYLIGHT
TZOFFSETFROM:+0000
TZOFFSETTO:+0100
TZNAME:BST
DTSTART:20190331T010000
END:DAYLIGHT
BEGIN:STANDARD
TZOFFSETFROM:+0100
TZOFFSETTO:+0000
TZNAME:GMT
DTSTART:20191027T010000
END:STANDARD
END:VTIMEZONE
BEGIN:VEVENT
DTSTART;TZID=Europe/London:20181006T080000
DTEND;TZID=Europe/London:20181006T170000
DTSTAMP:20260424T055315
CREATED:20180226T185552Z
LAST-MODIFIED:20180408T165908Z
UID:2735-1538812800-1538845200@penfightdistro.com
SUMMARY:Bristol Comic & Zine Fair
DESCRIPTION:Table applications for Bristol Comic & Zine Fair are now open! Apply using our online form here: https://bczf.co.uk/applications/
URL:https://penfightdistro.com/zine-event/bristol-comic-zine-fair-2/
LOCATION:The Station\, Silver St\, Bristol \, BS1 2AG\, United Kingdom
CATEGORIES:Zine Fair
ATTACH;FMTTYPE=image/jpeg:https://penfightdistro.com/wp-content/uploads/2018/02/DZyZG4BW0AELqCo.jpg
END:VEVENT
END:VCALENDAR