BEGIN:VCALENDAR
VERSION:2.0
PRODID:-//pen fight - ECPv6.15.20//NONSGML v1.0//EN
CALSCALE:GREGORIAN
METHOD:PUBLISH
X-WR-CALNAME:pen fight
X-ORIGINAL-URL:https://penfightdistro.com
X-WR-CALDESC:Events for pen fight
REFRESH-INTERVAL;VALUE=DURATION:PT1H
X-Robots-Tag:noindex
X-PUBLISHED-TTL:PT1H
BEGIN:VTIMEZONE
TZID:Europe/London
BEGIN:DAYLIGHT
TZOFFSETFROM:+0000
TZOFFSETTO:+0100
TZNAME:BST
DTSTART:20160327T010000
END:DAYLIGHT
BEGIN:STANDARD
TZOFFSETFROM:+0100
TZOFFSETTO:+0000
TZNAME:GMT
DTSTART:20161030T010000
END:STANDARD
BEGIN:DAYLIGHT
TZOFFSETFROM:+0000
TZOFFSETTO:+0100
TZNAME:BST
DTSTART:20170326T010000
END:DAYLIGHT
BEGIN:STANDARD
TZOFFSETFROM:+0100
TZOFFSETTO:+0000
TZNAME:GMT
DTSTART:20171029T010000
END:STANDARD
BEGIN:DAYLIGHT
TZOFFSETFROM:+0000
TZOFFSETTO:+0100
TZNAME:BST
DTSTART:20180325T010000
END:DAYLIGHT
BEGIN:STANDARD
TZOFFSETFROM:+0100
TZOFFSETTO:+0000
TZNAME:GMT
DTSTART:20181028T010000
END:STANDARD
END:VTIMEZONE
BEGIN:VEVENT
DTSTART;TZID=Europe/London:20171007T110000
DTEND;TZID=Europe/London:20171007T180000
DTSTAMP:20260424T212304
CREATED:20170417T151225Z
LAST-MODIFIED:20170921T124044Z
UID:1207-1507374000-1507399200@penfightdistro.com
SUMMARY:Bristol Comic & Zine Fair 2017
DESCRIPTION:Bristol Comic and Zine Fair celebrates the world of DIY and independent publishing. \nThe fair brings together artists\, writers\, and publishers from across Bristol and further afield for a one-day market. 2017 will be our 7th year. \nBCZF was established in 2011 to give artists interested in self-publishing a chance to sell their work and to invite new audiences to see what the UK’s vibrant DIY arts scene is up to. \nBCZF 2017 returns to The Station\, Broadmead\, a city-centre space run by The Creative Youth Network to provide a place for young people to meet\, develop their talent\, and get advice and support.
URL:https://penfightdistro.com/zine-event/bristol-comic-zine-fair-2017/
LOCATION:The Station\, Silver St\, Bristol \, BS1 2AG\, United Kingdom
CATEGORIES:Zine Fair
ATTACH;FMTTYPE=image/jpeg:https://penfightdistro.com/wp-content/uploads/2017/04/bczf-poster-white-ammended.jpg
END:VEVENT
END:VCALENDAR