BEGIN:VCALENDAR
VERSION:2.0
PRODID:-//pen fight - ECPv6.15.20//NONSGML v1.0//EN
CALSCALE:GREGORIAN
METHOD:PUBLISH
X-WR-CALNAME:pen fight
X-ORIGINAL-URL:https://penfightdistro.com
X-WR-CALDESC:Events for pen fight
REFRESH-INTERVAL;VALUE=DURATION:PT1H
X-Robots-Tag:noindex
X-PUBLISHED-TTL:PT1H
BEGIN:VTIMEZONE
TZID:Europe/London
BEGIN:DAYLIGHT
TZOFFSETFROM:+0000
TZOFFSETTO:+0100
TZNAME:BST
DTSTART:20170326T010000
END:DAYLIGHT
BEGIN:STANDARD
TZOFFSETFROM:+0100
TZOFFSETTO:+0000
TZNAME:GMT
DTSTART:20171029T010000
END:STANDARD
BEGIN:DAYLIGHT
TZOFFSETFROM:+0000
TZOFFSETTO:+0100
TZNAME:BST
DTSTART:20180325T010000
END:DAYLIGHT
BEGIN:STANDARD
TZOFFSETFROM:+0100
TZOFFSETTO:+0000
TZNAME:GMT
DTSTART:20181028T010000
END:STANDARD
BEGIN:DAYLIGHT
TZOFFSETFROM:+0000
TZOFFSETTO:+0100
TZNAME:BST
DTSTART:20190331T010000
END:DAYLIGHT
BEGIN:STANDARD
TZOFFSETFROM:+0100
TZOFFSETTO:+0000
TZNAME:GMT
DTSTART:20191027T010000
END:STANDARD
END:VTIMEZONE
BEGIN:VEVENT
DTSTART;TZID=Europe/London:20180708T120000
DTEND;TZID=Europe/London:20180708T170000
DTSTAMP:20260425T001823
CREATED:20180523T141753Z
LAST-MODIFIED:20180523T141753Z
UID:2872-1531051200-1531069200@penfightdistro.com
SUMMARY:Fair Play illustration & zine fair
DESCRIPTION:SUN 8th JULY 2018\n12 – 5pm \nCome and check out or little independent illustration fair – supporting artists and zine makers from Brighton and beyond! AND it’s in a pub WEY!!!! So have yourself a Sunday afternoon beverage and peruse some local artists. \nApplications are open to stall – email fairplaybrighton@gmail.com with a link to your work \n20 stalls with a variety of illustrators selling their wares \nDJs from Anti-Ghost Moon Ray records.
URL:https://penfightdistro.com/zine-event/fair-play-illustration-zine-fair/
LOCATION:North Laine Brewhouse\, 27 Gloucester Place\, \, Brighton\, BN14AA\, United Kingdom
CATEGORIES:Book or Art fair,Zine Fair
ATTACH;FMTTYPE=image/jpeg:https://penfightdistro.com/wp-content/uploads/2018/05/32761389_798485007020569_7430574257106583552_n.jpg
END:VEVENT
END:VCALENDAR