BEGIN:VCALENDAR
VERSION:2.0
PRODID:-//pen fight - ECPv6.15.20//NONSGML v1.0//EN
CALSCALE:GREGORIAN
METHOD:PUBLISH
X-ORIGINAL-URL:https://penfightdistro.com
X-WR-CALDESC:Events for pen fight
REFRESH-INTERVAL;VALUE=DURATION:PT1H
X-Robots-Tag:noindex
X-PUBLISHED-TTL:PT1H
BEGIN:VTIMEZONE
TZID:Europe/London
BEGIN:DAYLIGHT
TZOFFSETFROM:+0000
TZOFFSETTO:+0100
TZNAME:BST
DTSTART:20250330T010000
END:DAYLIGHT
BEGIN:STANDARD
TZOFFSETFROM:+0100
TZOFFSETTO:+0000
TZNAME:GMT
DTSTART:20251026T010000
END:STANDARD
BEGIN:DAYLIGHT
TZOFFSETFROM:+0000
TZOFFSETTO:+0100
TZNAME:BST
DTSTART:20260329T010000
END:DAYLIGHT
BEGIN:STANDARD
TZOFFSETFROM:+0100
TZOFFSETTO:+0000
TZNAME:GMT
DTSTART:20261025T010000
END:STANDARD
BEGIN:DAYLIGHT
TZOFFSETFROM:+0000
TZOFFSETTO:+0100
TZNAME:BST
DTSTART:20270328T010000
END:DAYLIGHT
BEGIN:STANDARD
TZOFFSETFROM:+0100
TZOFFSETTO:+0000
TZNAME:GMT
DTSTART:20271031T010000
END:STANDARD
END:VTIMEZONE
BEGIN:VEVENT
DTSTART;VALUE=DATE:20260503
DTEND;VALUE=DATE:20260504
DTSTAMP:20260421T234541
CREATED:20260304T114307Z
LAST-MODIFIED:20260410T130204Z
UID:23518-1777766400-1777852799@penfightdistro.com
SUMMARY:Newcastle Zine Fest
DESCRIPTION:Free Entry\, all welcome.\nA celebration of DIY publishing\, zines\, comics\, makers and creatives.\nAn opportunity to discover zine-makers from Newcastle and across the UK\, make pals\, share ideas and have a play at making zines!\nIncludes zine market\, trading opportunities\, zine and collage making\, zine exhibition\, interactive stuff\, cuppas\, sweets\, Star and Shadow café treats\, nice times\, many many stickers\, good chats\, etc.\nIf you are interested in tabling at the fest\, email us at nclzinefest@gmail.com – deadline for applications is 29th March.\nOtherwise\, come on down 3rd May\, Star and Shadow\, 11am – 3pm. If have any questions or want to follow updates\, find us on Instagram @nclzinefest or feel free to get in touch via email. See you there 3rd May!
URL:https://penfightdistro.com/zine-event/newcastle-zine-fest/
LOCATION:Star and Shadow Cinema\, Warwick Street\, Newcastle upon Tyne\,\, NE2 1BB
CATEGORIES:Zine Fair
ATTACH;FMTTYPE=image/jpeg:https://penfightdistro.com/wp-content/uploads/2026/03/645773214_17980899905974373_3369207208087040984_n.jpg
END:VEVENT
BEGIN:VEVENT
DTSTART;TZID=Europe/London:20260511T180000
DTEND;TZID=Europe/London:20260511T200000
DTSTAMP:20260421T234541
CREATED:20260304T115310Z
LAST-MODIFIED:20260304T115310Z
UID:23533-1778522400-1778529600@penfightdistro.com
SUMMARY:Zine Club (York)
DESCRIPTION:We’re back every month at The Crescent! Free or donations welcome! Come make a zine/hang out/ swap or chat zines! Newbys welcome 🙂
URL:https://penfightdistro.com/zine-event/zine-club-york-3/
LOCATION:The Crescent\, York\, YO24 1AW
CATEGORIES:Zine Club
ATTACH;FMTTYPE=image/jpeg:https://penfightdistro.com/wp-content/uploads/2026/03/625900941_18344522815236578_813107215744004869_n.jpg
END:VEVENT
BEGIN:VEVENT
DTSTART;TZID=Europe/London:20260523T110000
DTEND;TZID=Europe/London:20260524T180000
DTSTAMP:20260421T234541
CREATED:20260106T132231Z
LAST-MODIFIED:20260106T132231Z
UID:22205-1779534000-1779645600@penfightdistro.com
SUMMARY:Glasgow Zine Fest 2026
DESCRIPTION:✂️ GLASGOW ZINE FEST 2026 TABLE APPLICATIONS NOW OPEN! https://www.glasgowzinelibrary.com/glasgow-zine-fest \nDo you make zines? Do you want to show them off\, sell them\, and hang out with other zine-makers? Then apply for a table at Glasgow Zine Fest 2026!\n–\n📕 About Glasgow Zine Fest:\nGlasgow Zine Fest is an annual celebration of zines\, community art and heritage.\nAt the centre of it is our zine fair\, a market where makers from all over the country come to sell and swap their zines. Last year over 2500 people attended the zine fair across the two days that it was open. \nThis year’s festival will take place at the following times:\nSaturday 23rd May\, 11am-6pm\nSunday 24th May\, 11am-6pm \nThis year’s festival will be held at The Briggait\, 141 Bridgegate\, Glasgow G1 5HZ\n(attention: previous zine fair attendees\, please note the venue change! GZF will not be held at Tramway this year). \nIf you would like the chance to take part in this year’s zine fair\, please fill out the application form on our website or via the link in our bio! Deadline for Applications: Sunday 18th January 2026\, 5pm \nIf you have any questions about the application form\, or zine fest in general\, please email festival@glasgowzinelibrary.com\n—\n🎨 About your table: \nTables will be available on the 23rd and 24th May.\nYou can apply to hold a table for one day\, or both days. \nSaturday 23rd May\, 11am-6pm:\nSmall table: £10\nLarge table: £15 \nSunday 24th May\, 11am-6pm:\nSmall table: £10\nLarge table: £15 \nBoth days (Saturday 23rd and Sunday 24th):\nSmall Weekend: £20\nLarge weekend: £30 \n—\n✏️ Solidarity Funds\, Pay-it-forward\, and more: \nAs an organisation\, we’re attempting to build a fairer zine fest for everyone. If your application is selected\, you will have the option to contribute to a solidarity fund for tablers who are unable to pay for their own table. If you choose this option\, you will be given the option to pay an additional £10 (or more\, if you so choose) on top of your table fee\, with this passed onto a tabler unable to pay.
URL:https://penfightdistro.com/zine-event/glasgow-zine-fest-2026/
CATEGORIES:Zine Fair
ATTACH;FMTTYPE=image/jpeg:https://penfightdistro.com/wp-content/uploads/2026/01/glasgowzinelib_1765533547_3785892242306594382_1440525527.jpg
END:VEVENT
BEGIN:VEVENT
DTSTART;VALUE=DATE:20260530
DTEND;VALUE=DATE:20260601
DTSTAMP:20260421T234541
CREATED:20260304T112812Z
LAST-MODIFIED:20260304T113759Z
UID:23507-1780099200-1780271999@penfightdistro.com
SUMMARY:Duplicate Publishing Fair! 2026
DESCRIPTION:Duplicate 2026: Applications Open \nApply for a table at Duplicate Publishing Fair! The fair will take place on Saturday 30th May – Sunday 31st May (12-5pm) at Eastside Projects @eprjcts . Please note\, as a publishing fair\, applicants who make and sell zines\, publications\, comics and/or artist books will be prioritised. \nAPPLICATION DEADLINE: March 15th 2026\, midnight (applicants will be notified of an outcome by March 28th). \nHalf Table (3ft)\n£15 per day \nFull Table (6ft)\n£30 per day (or £50 for weekend) \nFREE Communal Table\nThere will be a communal table for people with 1-2 zine titles to sell their zines without any exhibitor fees. Duplicate will manage the table. If you wish to participate\, you do not need to contact us in advance\, just drop off your zines to the communal table (up to 2 titles\, maximum 5 copies of each) at Eastside Projects at 11.30am on Saturday 30th May. A member of the Duplicate team will record how many copies you drop off and the price. Sales money and any unsold zines must be collected by 5pm Sunday 31st May. Any uncollected money/zines will be donated to Duplicate. The communal table will be cash only. \n>>> LINK IN @duplicatepublishingfair BIO TO APPLY FOR A STALL <<<
URL:https://penfightdistro.com/zine-event/duplicate-publishing-fair-2026/
LOCATION:Eastside Projects\, 86 Heath Mill Lane\, Birmingham\, B9 4AR
CATEGORIES:Zine Fair
ATTACH;FMTTYPE=image/jpeg:https://penfightdistro.com/wp-content/uploads/2026/03/639456055_18181590013373120_4698349440975766197_n.jpg
END:VEVENT
BEGIN:VEVENT
DTSTART;VALUE=DATE:20260613
DTEND;VALUE=DATE:20260614
DTSTAMP:20260421T234541
CREATED:20260410T124049Z
LAST-MODIFIED:20260410T124049Z
UID:23605-1781308800-1781395199@penfightdistro.com
SUMMARY:Stockport Zine Fair
DESCRIPTION:“WE’RE BACK\, BABY! \nMark your calendars. Tell your pals. And traders\, get those applications in! \nStockport Zine + Print Fair will be returning on 13th June 2026 and once again we’ll be at the wonderful @stockr__m in Stockport town centre. \nWe’ll have everything you’ve come to expect from the fair\, zines\, prints and all types of artwork for sale\, an all-ages zine making drop-in workshop\, badge making and more… \nStallholder applications are open now (link in bio) and will close on 15th April\, so get those applications in. If you have any questions\, feel free to DM us and I’ll answer any questions as best I can. \nFrog artwork by the brilliant @icarisk.png“
URL:https://penfightdistro.com/zine-event/stockport-zine-fair-2/
LOCATION:Stockroom\, Merseyway\,\, Stockport\, SK1 1PW
CATEGORIES:Zine Fair
ATTACH;FMTTYPE=image/webp:https://penfightdistro.com/wp-content/uploads/2026/04/655764934_17892292215442467_4549187401891205109_n.webp
END:VEVENT
BEGIN:VEVENT
DTSTART;VALUE=DATE:20260719
DTEND;VALUE=DATE:20260720
DTSTAMP:20260421T234541
CREATED:20260410T130717Z
LAST-MODIFIED:20260410T130717Z
UID:23617-1784419200-1784505599@penfightdistro.com
SUMMARY:South London Comic and Zine Fair
DESCRIPTION:It’s Back! \nSouth London Comic and Zine Fair\n19th July 2026\nStanley Arts \nApplications open from April \nArtwork by the Brilliant! @ambush_mo_morrell
URL:https://penfightdistro.com/zine-event/south-london-comic-and-zine-fair-3/
LOCATION:Stanley Arts\, 12 South Norwood Hill\, London\, SE25 6
CATEGORIES:Zine Fair
ATTACH;FMTTYPE=image/jpeg:https://penfightdistro.com/wp-content/uploads/2026/04/639769555_18336997531243581_8511586436623820608_n.jpg
END:VEVENT
BEGIN:VEVENT
DTSTART;VALUE=DATE:20260801
DTEND;VALUE=DATE:20260802
DTSTAMP:20260421T234541
CREATED:20260312T122802Z
LAST-MODIFIED:20260312T122802Z
UID:23576-1785542400-1785628799@penfightdistro.com
SUMMARY:Scunny Zine Fest 2026
DESCRIPTION:save the date – zine fest in Scunthorpe
URL:https://penfightdistro.com/zine-event/scunny-zine-fest-2026/
CATEGORIES:Zine Fair
ATTACH;FMTTYPE=image/webp:https://penfightdistro.com/wp-content/uploads/2026/03/649517725_17993439839926011_2862816454862619280_n.webp
END:VEVENT
BEGIN:VEVENT
DTSTART;VALUE=DATE:20260829
DTEND;VALUE=DATE:20260831
DTSTAMP:20260421T234541
CREATED:20260410T125923Z
LAST-MODIFIED:20260410T125923Z
UID:23613-1787961600-1788134399@penfightdistro.com
SUMMARY:Pagemasters Zine Fair 2026
DESCRIPTION:“🚨🚨🚨OPEN CALL🚨🚨🚨 \n📋Applications to take part in the PageMasters Zine Fair 2026 at South London Gallery are now open! \n📅 Saturday 29th & Sunday 30th of August \n🔍 Head to our website to find what you need to find”
URL:https://penfightdistro.com/zine-event/pagemasters-zine-fair-2026/
LOCATION:South London Gallery\, 65–67 Peckham Road\, London\, SE5 8UH\, United Kingdom
CATEGORIES:Zine Fair
ATTACH;FMTTYPE=image/jpeg:https://penfightdistro.com/wp-content/uploads/2026/04/658292507_18331895215222910_3198594151137435584_n.jpg
END:VEVENT
BEGIN:VEVENT
DTSTART;VALUE=DATE:20260912
DTEND;VALUE=DATE:20260913
DTSTAMP:20260421T234541
CREATED:20260410T122420Z
LAST-MODIFIED:20260410T122420Z
UID:23602-1789171200-1789257599@penfightdistro.com
SUMMARY:Zinezilla
DESCRIPTION:“That’s right! Zinezilla is BACK with a vengeance and sailing your way on Saturday 12th september! \nDownstairs you can dive into a comic\, illustration and zine fair bursting at the seams with ziney and zillary goodness to feed your eyes and souls. Climb aboard the @animinspo_bristol ship for the Animinspo Animation Festival upstairs to see the best in independent animation alongside discussions and an awards ceremony to boot! Rounding out the day there’ll be a variety of workshops\, talks and performances dotted around the event\, so make sure you follow our treasure map to all this gold and good times. \nApplications to table at the fair and to screen animations will open on Friday 20th March. We welcome a wide variety of creative forms and voices\, and encourage new and emerging artists to apply!”
URL:https://penfightdistro.com/zine-event/zinezilla/
LOCATION:Trinity Centre\, Trinity Road\, Bristol\, BS2 0NW\, United Kingdom
CATEGORIES:Zine Fair
ATTACH;FMTTYPE=image/webp:https://penfightdistro.com/wp-content/uploads/2026/04/650482211_18080256695623438_3743959966735205869_n.webp
END:VEVENT
BEGIN:VEVENT
DTSTART;VALUE=DATE:20260926
DTEND;VALUE=DATE:20260928
DTSTAMP:20260421T234541
CREATED:20260410T125251Z
LAST-MODIFIED:20260410T125251Z
UID:23609-1790380800-1790553599@penfightdistro.com
SUMMARY:inQ! Comic Fair
DESCRIPTION:“London’s Queer Comic Fair is back with a vengeance\, and we’re bigger than ever! Stand by for a WHOLE WEEKEND of queer comics joy this September 26th and 27th 2026. \ninQ! returns to the wonder that is the London LGBTQ+ Community Centre @ldnlgbtqcentre\, and this year we bring not one\, but TWO whole days of comic fair glory. Double the artists! Double the comic fair fun! \nArtist Applications open on Monday 6th of April\, so shine up your portfolio pages and stand by to dazzle us with your comic and zine genius. All LGBTQIA+ creators are welcome to apply. We can’t wait to see what you bring! \nEntry is FREE\, and we’re family friendly so bring all your friends. Tell everyone! Get excited! inQ! is BACK! \n(It’s pronounced “ink” by way! Shout it delightedly at someone today!) \n[Poster by the brilliant and delightful @kitsuneart]”
URL:https://penfightdistro.com/zine-event/inq-comic-fair/
LOCATION:London LGBTQ+ Community Centre\, 60-62 Hopton Street\, Blackfriars\, London\, SE1 9JH
CATEGORIES:Bookfair,Zine Fair
ATTACH;FMTTYPE=image/jpeg:https://penfightdistro.com/wp-content/uploads/2026/04/657688138_17941549083178766_6858392141737386247_n.jpg
END:VEVENT
BEGIN:VEVENT
DTSTART;VALUE=DATE:20261107
DTEND;VALUE=DATE:20261109
DTSTAMP:20260421T234541
CREATED:20260109T135919Z
LAST-MODIFIED:20260109T135919Z
UID:22458-1794009600-1794182399@penfightdistro.com
SUMMARY:Edinburgh Zine Fair 2026
DESCRIPTION:THE EDINBURGH ZINE FAIR WILL RETURN on the 7th and 8th of November 2026!!! Save the date!!!
URL:https://penfightdistro.com/zine-event/edinburgh-zine-fair-2026/
CATEGORIES:Zine Fair
ATTACH;FMTTYPE=image/jpeg:https://penfightdistro.com/wp-content/uploads/2026/01/574370575_17974593605949514_2754186446405729550_n.jpg
END:VEVENT
END:VCALENDAR