BEGIN:VCALENDAR
VERSION:2.0
PRODID:-//pen fight - ECPv6.15.20//NONSGML v1.0//EN
CALSCALE:GREGORIAN
METHOD:PUBLISH
X-ORIGINAL-URL:https://penfightdistro.com
X-WR-CALDESC:Events for pen fight
REFRESH-INTERVAL;VALUE=DURATION:PT1H
X-Robots-Tag:noindex
X-PUBLISHED-TTL:PT1H
BEGIN:VTIMEZONE
TZID:Europe/London
BEGIN:DAYLIGHT
TZOFFSETFROM:+0000
TZOFFSETTO:+0100
TZNAME:BST
DTSTART:20190331T010000
END:DAYLIGHT
BEGIN:STANDARD
TZOFFSETFROM:+0100
TZOFFSETTO:+0000
TZNAME:GMT
DTSTART:20191027T010000
END:STANDARD
BEGIN:DAYLIGHT
TZOFFSETFROM:+0000
TZOFFSETTO:+0100
TZNAME:BST
DTSTART:20200329T010000
END:DAYLIGHT
BEGIN:STANDARD
TZOFFSETFROM:+0100
TZOFFSETTO:+0000
TZNAME:GMT
DTSTART:20201025T010000
END:STANDARD
BEGIN:DAYLIGHT
TZOFFSETFROM:+0000
TZOFFSETTO:+0100
TZNAME:BST
DTSTART:20210328T010000
END:DAYLIGHT
BEGIN:STANDARD
TZOFFSETFROM:+0100
TZOFFSETTO:+0000
TZNAME:GMT
DTSTART:20211031T010000
END:STANDARD
END:VTIMEZONE
BEGIN:VEVENT
DTSTART;TZID=Europe/London:20200430T180000
DTEND;TZID=Europe/London:20200430T200000
DTSTAMP:20260422T171132
CREATED:20200228T212517Z
LAST-MODIFIED:20200330T134534Z
UID:10861-1588269600-1588276800@penfightdistro.com
SUMMARY:(CANCELLED) Essex Grrrl Zine Workshop
DESCRIPTION:Join us on 30 April from 6 – 8 pm\, alongside Beecroft Art Gallery’s This Is What An Essex Girl Looks Like exhibition\, to create our own self-published zines. We’re sticking one up to the Essex Girl stereotype\, writing our own narratives and documenting our experiences in a relaxed\, creative form of self-care through collage\, writing and drawing. \nWe’ll also learn about the history of zine-making and the women who came before us- as well as taking a look at the Grrrl Zine Library\, which is permanently housed at The Old Waterworks in Westcliff-on-sea. \nThey’ll be an opportunity to duplicate our zines to share with friends\, family or to distribute throughout town. \nZines can also be donated to the exhibition for display or public reading. \n♡♡♡♡♡♡♡♡♡♡♡♡♡♡♡♡♡♡♡♡♡♡♡♡♡♡ \nHosted by founder of Grrrl Zine Fair Lu Williams\, zine workshops through Grrrl are presented as an adaptable way of making outside of academic or capitalist endeavours. Zine making is made accessible to communities outside of the art world and can be used as a way of self-expression\, a tool\, or practice of self-care. \nAll materials provided. Drinks & snacks included. The venue is accessible. \nMore info on the exhibition here: https://www.southend.gov.uk/events/event/4483/this_is_what_an_essex_girl_looks_like
URL:https://penfightdistro.com/zine-event/essex-grrrl-zine-workshop/
LOCATION:Beecroft Art Gallery\, Victoria Avenue\, Southend-on-Sea\, SS2 6EX
CATEGORIES:Workshops
ATTACH;FMTTYPE=image/jpeg:https://penfightdistro.com/wp-content/uploads/2020/02/https___cdn.evbuc_.com_images_94456159_198166051724_1_original.jpg
END:VEVENT
END:VCALENDAR