BEGIN:VCALENDAR
VERSION:2.0
PRODID:-//pen fight - ECPv6.15.20//NONSGML v1.0//EN
CALSCALE:GREGORIAN
METHOD:PUBLISH
X-ORIGINAL-URL:https://penfightdistro.com
X-WR-CALDESC:Events for pen fight
REFRESH-INTERVAL;VALUE=DURATION:PT1H
X-Robots-Tag:noindex
X-PUBLISHED-TTL:PT1H
BEGIN:VTIMEZONE
TZID:Europe/London
BEGIN:DAYLIGHT
TZOFFSETFROM:+0000
TZOFFSETTO:+0100
TZNAME:BST
DTSTART:20190331T010000
END:DAYLIGHT
BEGIN:STANDARD
TZOFFSETFROM:+0100
TZOFFSETTO:+0000
TZNAME:GMT
DTSTART:20191027T010000
END:STANDARD
BEGIN:DAYLIGHT
TZOFFSETFROM:+0000
TZOFFSETTO:+0100
TZNAME:BST
DTSTART:20200329T010000
END:DAYLIGHT
BEGIN:STANDARD
TZOFFSETFROM:+0100
TZOFFSETTO:+0000
TZNAME:GMT
DTSTART:20201025T010000
END:STANDARD
BEGIN:DAYLIGHT
TZOFFSETFROM:+0000
TZOFFSETTO:+0100
TZNAME:BST
DTSTART:20210328T010000
END:DAYLIGHT
BEGIN:STANDARD
TZOFFSETFROM:+0100
TZOFFSETTO:+0000
TZNAME:GMT
DTSTART:20211031T010000
END:STANDARD
END:VTIMEZONE
BEGIN:VEVENT
DTSTART;TZID=Europe/London:20200308T110000
DTEND;TZID=Europe/London:20200308T160000
DTSTAMP:20260422T183010
CREATED:20200228T210403Z
LAST-MODIFIED:20200228T210403Z
UID:10837-1583665200-1583683200@penfightdistro.com
SUMMARY:Queer Zine Library - Talk and Zine Making Workshop
DESCRIPTION:We’re so excited to be rounding off our Eat Up! For Starters workshop season with a visit from the Queer Zine Library! Come along between 11am and 4pm to browse the collection\, talk to the zine librarians and donate your own zines to the collection. \nQueer Zine Library (https://www.queerzinelibrary.com) is a UK based roaming DIY queer zine library celebrating radical LGBTQ self-publishing. Queer Zine Library has over 400+ zines which tour and travel the UK\, sharing LGBTQIA stories and lived experiences outside of traditional library settings\, putting queer histories in the hands of queer communities. \nThere’ll be a short presentation from QZL about the history and mission of the library\, as well as a ticketed zine making workshop from local zine maker and artist Sophie Sherwood in the afternoon. \n*** \nTIMINGS: \n– Queer Zine Library: 11am-4pm (free/donations) \n– Queer Zine Library presentation: 12:30-1pm (free/donations) \n– Zine making workshop: 1-3.30pm (£5 each\, tickets here: https://www.eventbrite.co.uk/e/eat-up-for-starters-zine-making-workshop-tickets-92482639063)
URL:https://penfightdistro.com/zine-event/queer-zine-library-talk-and-zine-making-workshop/
LOCATION:Exchange\, 72 - 73 Old Market\, Bristol\, BS20
CATEGORIES:Talks & Discussions,Workshops
ATTACH;FMTTYPE=image/jpeg:https://penfightdistro.com/wp-content/uploads/2020/02/84606850_483718872577529_8509045995445682176_o.jpg
END:VEVENT
BEGIN:VEVENT
DTSTART;TZID=Europe/London:20200323T100000
DTEND;TZID=Europe/London:20200323T113000
DTSTAMP:20260422T183010
CREATED:20200228T211619Z
LAST-MODIFIED:20200321T062230Z
UID:10851-1584957600-1584963000@penfightdistro.com
SUMMARY:(CANCELLED) Family History Festival: Zine Making
DESCRIPTION:Suitable for all abilities and experience\, you’ll come away with a lovely record of your story.\n\n\n\n\n\n\nAbout this Event\n\n\nJoin Rose Sergent for this fun\, hands on session. Suitable for all abilities and experience\, you’ll come away with a lovely record of your story that you can share on Oldham Libraries’ e-book platform if you wish. \nFamily History Festival: \nFind out how you can trace your ancestors at various sessions across the borough thanks to Oldham Libraries and Oldham Local Studies and Archives. \nWith expert advice on hand\, opportunities to develop and improve your research skills\, and amazing resources available for you to use\, discover your past this March and share it with others.
URL:https://penfightdistro.com/zine-event/family-history-festival-zine-making/
LOCATION:Royton Library\, Rochdale Road\, Royton\, OL2
CATEGORIES:Workshops
ATTACH;FMTTYPE=image/jpeg:https://penfightdistro.com/wp-content/uploads/2020/02/https___cdn.evbuc_.com_images_90342169_147370147089_1_original.jpg
END:VEVENT
BEGIN:VEVENT
DTSTART;TZID=Europe/London:20200329T150000
DTEND;TZID=Europe/London:20200329T170000
DTSTAMP:20260422T183010
CREATED:20200228T210151Z
LAST-MODIFIED:20200228T210151Z
UID:10833-1585494000-1585501200@penfightdistro.com
SUMMARY:TV Will Break Your Heart: TV Fanzine Workshop
DESCRIPTION:“With film you’re in and you’re out and you go on with your life. TV is like a long relationship that ends abruptly or wistfully. One way or another\, TV will break your heart.” – David Bordwell \nIt’s time to put all those hours spent watching Netflix to good use. We know you’ve got ~strong feelings~ about TV shows – so do we. Come and gather with other TVphiles and get those feelings out of your head and into a zine!! \nSome potential zine titles to get you inspired:\n-why’d they cancel Firefly??\n-an ode to the sassy commentator on Come Dine With Me\n-the impeccable morality of Captain Jean Luc Picard\n-Loving Love Island \nWe offer many free events throughout the year\, but we rely on donations to continue to run our programme. Please consider giving an optional donation (suggested £3 per ticket) to support this and future events at GZL. \n\n\n\n\nClick here to book a free ticket\n\n\n\n\nGlasgow Zine Library (https://glasgowzinelibrary.com/) is an archive and library based in the Southside of Glasgow. It acts as a growing archive of self-published works\, with an inviting and accessible area of reading in the space\, as well as running a year-long programme of events to celebrate the ethos of Do It Yourself (DIY) culture. \nACCESS: The Library can accommodate wheelchair users\, but unfortunately\, we do not have a wheelchair accessible bathroom yet – we are currently applying for funding to make our bathroom accessible to everyone\, and we will be making the needed adjustments as soon as we have the funds to do so. If you have any questions or requests about access\, please contact glasgowzinelibrary@gmail.com
URL:https://penfightdistro.com/zine-event/tv-will-break-your-heart-tv-fanzine-workshop-2/
LOCATION:Glasgow Zine Library\, 32-34 Albert Road\, Glasgow\, G42 8DN\, United Kingdom
CATEGORIES:Workshops
END:VEVENT
END:VCALENDAR