BEGIN:VCALENDAR
VERSION:2.0
PRODID:-//pen fight - ECPv6.15.20//NONSGML v1.0//EN
CALSCALE:GREGORIAN
METHOD:PUBLISH
X-ORIGINAL-URL:https://penfightdistro.com
X-WR-CALDESC:Events for pen fight
REFRESH-INTERVAL;VALUE=DURATION:PT1H
X-Robots-Tag:noindex
X-PUBLISHED-TTL:PT1H
BEGIN:VTIMEZONE
TZID:Europe/London
BEGIN:DAYLIGHT
TZOFFSETFROM:+0000
TZOFFSETTO:+0100
TZNAME:BST
DTSTART:20190331T010000
END:DAYLIGHT
BEGIN:STANDARD
TZOFFSETFROM:+0100
TZOFFSETTO:+0000
TZNAME:GMT
DTSTART:20191027T010000
END:STANDARD
BEGIN:DAYLIGHT
TZOFFSETFROM:+0000
TZOFFSETTO:+0100
TZNAME:BST
DTSTART:20200329T010000
END:DAYLIGHT
BEGIN:STANDARD
TZOFFSETFROM:+0100
TZOFFSETTO:+0000
TZNAME:GMT
DTSTART:20201025T010000
END:STANDARD
BEGIN:DAYLIGHT
TZOFFSETFROM:+0000
TZOFFSETTO:+0100
TZNAME:BST
DTSTART:20210328T010000
END:DAYLIGHT
BEGIN:STANDARD
TZOFFSETFROM:+0100
TZOFFSETTO:+0000
TZNAME:GMT
DTSTART:20211031T010000
END:STANDARD
END:VTIMEZONE
BEGIN:VEVENT
DTSTART;TZID=Europe/London:20200118T140000
DTEND;TZID=Europe/London:20200118T160000
DTSTAMP:20260422T210905
CREATED:20200108T145345Z
LAST-MODIFIED:20200108T145345Z
UID:8247-1579356000-1579363200@penfightdistro.com
SUMMARY:Exaggarate Everything: Zine Making workshop led by Jess Loveday &Lizz Brady
DESCRIPTION:BACKLIT presents as part of its Exaggerate Everything exhibition a Zine Making Workshop about mental health\n\n\n\n\n\n\nAbout this Event\n\n\n\nThe workshop has brought together two artists who investigate mental health through their work. You’ll make your own zine exploring self care through doodles\, creative tasks and mindfulness. You will have the opportunity to consider your own mental health and playfully respond to it. \n(Please note you will not be expected to discuss your mental health or show your zine if you do not wish to\, making a zine s a totally independent activity but on the other hand you are welcome to speak about your personal experience as much as you’d like). \nhttps://www.lizzbrady.com/ \nhttps://www.jessicaloveday.com/ \nFREE to attend. \nAll materials will be provided \n\n\nBACKLIT has a lift that can be used for access to different floors\, use of this must be arranged in advance via suzanne.golden@backlit.org.uk. Toilets are not suitable for wheelchair users and we don’t have baby changing facilities (we are currently fundraising for this).
URL:https://penfightdistro.com/zine-event/exaggarate-everything-zine-making-workshop-led-by-jess-loveday-lizz-brady/
LOCATION:BACKLIT\, Ashley Street\, Nottingham\, NG3\, United Kingdom
CATEGORIES:Workshops
ATTACH;FMTTYPE=image/jpeg:https://penfightdistro.com/wp-content/uploads/2020/01/https___cdn.evbuc_.com_images_81469589_23965147906_1_original.jpg
END:VEVENT
BEGIN:VEVENT
DTSTART;TZID=Europe/London:20200123T190000
DTEND;TZID=Europe/London:20200123T220000
DTSTAMP:20260422T210905
CREATED:20200108T144235Z
LAST-MODIFIED:20200108T144235Z
UID:8233-1579806000-1579816800@penfightdistro.com
SUMMARY:Community Zine making Art Night
DESCRIPTION:Join our FREE art night\, where all art made will go into the next issue of our community Zine. Get creative with all materials provided in a chilled environment. \nFeel free to bring your kids\, dogs and friends. \nThis Art night is sponsored by URBAN BY NATURE
URL:https://penfightdistro.com/zine-event/community-zine-making-art-night/
LOCATION:Wynwood Art District\, 2A Chingford Road\, London\, E17 4PJ\, United Kingdom
CATEGORIES:Workshops
ATTACH;FMTTYPE=image/jpeg:https://penfightdistro.com/wp-content/uploads/2020/01/https___cdn.evbuc_.com_images_85843225_267714382863_1_original.jpg
END:VEVENT
BEGIN:VEVENT
DTSTART;TZID=Europe/London:20200125T120000
DTEND;TZID=Europe/London:20200125T140000
DTSTAMP:20260422T210905
CREATED:20200108T145052Z
LAST-MODIFIED:20200108T145052Z
UID:8243-1579953600-1579960800@penfightdistro.com
SUMMARY:Spitalfields Tour and Zine Workshop
DESCRIPTION:Work as a team and follow a series of clues to discover the history of East London’s radical refugees\, finishing with a zine making workshop\n\n\n\n\n\n\nAbout this Event\n\n\nExplore the streets of Spitalfields and Whitechapel and discover the history of East London’s radical refugees. You will follow a series of clues to guide you through the cobbled streets with your self guided tour concluding with a zine making workshop.
URL:https://penfightdistro.com/zine-event/spitalfields-tour-and-zine-workshop/
LOCATION:Liverpool Street Station\, EC2M 7QA
CATEGORIES:Workshops
ATTACH;FMTTYPE=image/jpeg:https://penfightdistro.com/wp-content/uploads/2020/01/https___cdn.evbuc_.com_images_86227759_332322906719_1_original.jpg
END:VEVENT
BEGIN:VEVENT
DTSTART;TZID=Europe/London:20200126T130000
DTEND;TZID=Europe/London:20200126T150000
DTSTAMP:20260422T210905
CREATED:20200108T144501Z
LAST-MODIFIED:20200108T144501Z
UID:8238-1580043600-1580050800@penfightdistro.com
SUMMARY:Queer Zine Library cataloguing party
DESCRIPTION:Queer Zine Library is a diy roaming library celebrating LGBTQIA radical self-publishing. The zine library travels across the UK taking up residency in community spaces. \nIf you are interested in getting involved with Queer Zine Library and want to learn more about cataloguing then get involved! \nCataloguing is a way for new readers to discover zines in our collections and to track where those zines are currently on display. All cataloguing is carried out by QZL volunteers and we are hosting our very first public cataloguing party inviting queer zine makers and queer zine readers to contribute and develop the way we catalogue. \nEveryone is welcome regardless of experience. No previous knowledge of cataloguing is necessary\, just a passion for queer zines! We want the queer community to challenge ideas of cataloguing and help us build a collective approach to making the library accessible. There will be a chance to spend time with the amazing zines in our library collections\, learn the basics of cataloguing from our volunteers\, as well as contribute to our collective cataloguing which is always changing and growing. \nSpaces are limited and booking is essential. Get in touch if you have any questions about the day queerzinelibrary@gmail.com \nCanvas Cafe have provided the community hub meeting space for free in return for a donation to our Pay-it-forward board which provides food and drinks to homeless people in Tower Hamlets. As part of this agreement we ask all attendees not to bring your own food and drink with you and to use the cafe for all food. Drinks from the cafe are on us. The cafe is 100% vegan. You can find more info about food options here: https://www.thecanvascafe.org/vegan-cafe \nCanvas Cafe has gender neutral toilets. The space is wheelchair accessible but unfortunately the cafe has no wheelchair accessible toilet facilities at the moment. We are prioritising a fully accessible venues for our next cataloguing sessions and apologies to everyone who will be unable to attend this first meetup. You can find more about the venue’s access and safer space policy here: https://www.thecanvascafe.org/about
URL:https://penfightdistro.com/zine-event/queer-zine-library-cataloguing-party/
LOCATION:The Canvas: Cafe & Creative Venue\, 42 Hanbury Street\, London\, E1 5JL\, United Kingdom
CATEGORIES:Workshops
ATTACH;FMTTYPE=image/jpeg:https://penfightdistro.com/wp-content/uploads/2020/01/https___cdn.evbuc_.com_images_77973413_355639697675_1_original.jpg
END:VEVENT
BEGIN:VEVENT
DTSTART;TZID=Europe/London:20200126T150000
DTEND;TZID=Europe/London:20200126T170000
DTSTAMP:20260422T210905
CREATED:20200114T130538Z
LAST-MODIFIED:20200114T130538Z
UID:8565-1580050800-1580058000@penfightdistro.com
SUMMARY:TV Will Break Your Heart: TV Fanzine Workshop
DESCRIPTION:“With film you’re in and you’re out and you go on with your life. TV is like a long relationship that ends abruptly or wistfully. One way or another\, TV will break your heart.” – David Bordwell \nIt’s time to put all those hours spent watching Netflix to good use. We know you’ve got ~strong feelings~ about TV shows – so do we. Come and gather with other TVphiles and get those feelings out of your head and into a zine!! \nSome potential zine titles to get you inspired:\n-why’d they cancel Firefly??\n-an ode to the sassy commentator on Come Dine With Me\n-the impeccable morality of Captain Jean Luc Picard\n-Loving Love Island \nThis event is free but donations are greatly appreciated!
URL:https://penfightdistro.com/zine-event/tv-will-break-your-heart-tv-fanzine-workshop/
LOCATION:Glasgow Zine Library\, 32-34 Albert Road\, Glasgow\, G42 8DN\, United Kingdom
CATEGORIES:Workshops
END:VEVENT
END:VCALENDAR