BEGIN:VCALENDAR
VERSION:2.0
PRODID:-//pen fight - ECPv6.15.20//NONSGML v1.0//EN
CALSCALE:GREGORIAN
METHOD:PUBLISH
X-WR-CALNAME:pen fight
X-ORIGINAL-URL:https://penfightdistro.com
X-WR-CALDESC:Events for pen fight
REFRESH-INTERVAL;VALUE=DURATION:PT1H
X-Robots-Tag:noindex
X-PUBLISHED-TTL:PT1H
BEGIN:VTIMEZONE
TZID:Europe/London
BEGIN:DAYLIGHT
TZOFFSETFROM:+0000
TZOFFSETTO:+0100
TZNAME:BST
DTSTART:20180325T010000
END:DAYLIGHT
BEGIN:STANDARD
TZOFFSETFROM:+0100
TZOFFSETTO:+0000
TZNAME:GMT
DTSTART:20181028T010000
END:STANDARD
BEGIN:DAYLIGHT
TZOFFSETFROM:+0000
TZOFFSETTO:+0100
TZNAME:BST
DTSTART:20190331T010000
END:DAYLIGHT
BEGIN:STANDARD
TZOFFSETFROM:+0100
TZOFFSETTO:+0000
TZNAME:GMT
DTSTART:20191027T010000
END:STANDARD
BEGIN:DAYLIGHT
TZOFFSETFROM:+0000
TZOFFSETTO:+0100
TZNAME:BST
DTSTART:20200329T010000
END:DAYLIGHT
BEGIN:STANDARD
TZOFFSETFROM:+0100
TZOFFSETTO:+0000
TZNAME:GMT
DTSTART:20201025T010000
END:STANDARD
END:VTIMEZONE
BEGIN:VEVENT
DTSTART;TZID=Europe/London:20190919T120000
DTEND;TZID=Europe/London:20190920T190000
DTSTAMP:20260423T022233
CREATED:20190903T131010Z
LAST-MODIFIED:20190903T131010Z
UID:3603-1568894400-1569006000@penfightdistro.com
SUMMARY:Zine Making with Disability Arts Online at Sick! Festival\, Manchester
DESCRIPTION:When\n19 September 2019 – 20 September 2019\n12:00-7:00pm each day \nPrice: Free \n\nDescription\nZines\, or fanzines\, are self-published material made for little money and distributed cheaply. Their focus is not on profit\, but rather they have historically been used as a tool of political resistance\, often circumventing traditional publishing and distributing standards\, giving a voice to the underrepresented and marginalized. Though zines were forged in the fires of oppression\, they grew and expanded to other subcultures\, such as punk and Riot Grrrl\, science fiction writers\, comic makers\, artists and designers\, in addition to their foundation of anti-fascism\, anti-racism\, and anti-sexism. \nJoin Disability Arts Online in creating a zine based on the themes of this year’s Sick! Festival. Materials and prompts will be provided\, as well as a selection of zines to flip through for inspiration and enjoyment. This is an all-day event\, and all are welcome to drop in and out and create as many pages as desired. \nFind out more about Sick! Festival.
URL:https://penfightdistro.com/zine-event/zine-making-with-disability-arts-online-at-sick-festival-manchester/
LOCATION:The Lowry\, The Quays\, Salford\, United Kingdom
CATEGORIES:Workshops
END:VEVENT
BEGIN:VEVENT
DTSTART;TZID=Europe/London:20190925T170000
DTEND;TZID=Europe/London:20190925T200000
DTSTAMP:20260423T022233
CREATED:20190902T180033Z
LAST-MODIFIED:20190902T180033Z
UID:3562-1569430800-1569441600@penfightdistro.com
SUMMARY:Gender not included - Zine making workshops
DESCRIPTION:Creative writing and zine-making workshops for 14+ LGBTQ+ people\, where we will explore gender\, identity\, non –binary and transgender issues\n\n\n\n\n\n\nAbout this Event\n\n\nHi I’m Melody! I’m a writer and performer and as apart of my solo show *gender not included\, I’m running some creative writing zine making workshops for 14+ LGBTQ+ people\, where we will talk about identity\, representation\, do writing exercises and create our own lil zines! It’s a safe space for us all to relax\, chat\, make new friends or just have a nice sit down. \nI wanted to offer peeps a chance to be creative\, try something they might not ususally do and just have a space to be comfy and yourself – as well getting a bit crafty and making some zines! (cos I love zines) All materials provided! \nThe event is 14+ however please do get in touch at melodysproates@gmail.com if you have any questions or have any concerns. \nThis workshop will run 5-8pm at Cobalt Studios in Newcastle. If you are under 18 you will need permission from a parent or guardian. \nThanks!
URL:https://penfightdistro.com/zine-event/gender-not-included-zine-making-workshops/
LOCATION:Cobalt Studios\, 10 Boyd Street\, Newcastle upon Tyne\, NE2 1AP\, United Kingdom
CATEGORIES:Workshops
ATTACH;FMTTYPE=image/jpeg:https://penfightdistro.com/wp-content/uploads/2019/09/https___cdn.evbuc_.com_images_70265099_295173660656_1_original.jpg
END:VEVENT
BEGIN:VEVENT
DTSTART;TZID=Europe/London:20190928T120000
DTEND;TZID=Europe/London:20190928T143000
DTSTAMP:20260423T022233
CREATED:20190902T180313Z
LAST-MODIFIED:20190902T180313Z
UID:3566-1569672000-1569681000@penfightdistro.com
SUMMARY:Free workshop – BAME Lib Zine issue #02
DESCRIPTION:Who is the workshop for?\nThe session is primarily for Black\, Asian\, Minority Ethnic\, QTIPOC librarians and informational professionals who wish to share their experiences and create a toolkit to support others in the sector. \nThe workshop will include:\n\nQuick introduction to zines and a look at the Stuart Hall Library zine collection.\nDiscussion on the theme of ‘Surviving the Sector’\nHands on zine-making\n\nAfter the workshop\, he work will be collated into a digital zine to be shared online. I also aim to share the zine with libraries with zine collections who may be interested in holding a physical copy. I will create a credits list at the back of the zine\, your work can be submitted under an anonymous name if you wish. \nStuart Hall Library have very kindly agreed to host this workshop in their new location and will provide scissors\, paper\, glue\, pencils\, pens\, makers and access to a photocopier. However\, this is run without a budget so please help out by bringing\, pencils\, glue stick\, scissors\, old magazines if you have any.
URL:https://penfightdistro.com/zine-event/free-workshop-bame-lib-zine-issue-02/
LOCATION:Stuart Hall Library\, 16 John Islip Street\, London\, SW1P 4JU
CATEGORIES:Workshops
ATTACH;FMTTYPE=image/png:https://penfightdistro.com/wp-content/uploads/2019/09/bame-libzine-01-1.png
END:VEVENT
END:VCALENDAR