BEGIN:VCALENDAR
VERSION:2.0
PRODID:-//pen fight - ECPv6.15.20//NONSGML v1.0//EN
CALSCALE:GREGORIAN
METHOD:PUBLISH
X-WR-CALNAME:pen fight
X-ORIGINAL-URL:https://penfightdistro.com
X-WR-CALDESC:Events for pen fight
REFRESH-INTERVAL;VALUE=DURATION:PT1H
X-Robots-Tag:noindex
X-PUBLISHED-TTL:PT1H
BEGIN:VTIMEZONE
TZID:Europe/London
BEGIN:DAYLIGHT
TZOFFSETFROM:+0000
TZOFFSETTO:+0100
TZNAME:BST
DTSTART:20180325T010000
END:DAYLIGHT
BEGIN:STANDARD
TZOFFSETFROM:+0100
TZOFFSETTO:+0000
TZNAME:GMT
DTSTART:20181028T010000
END:STANDARD
BEGIN:DAYLIGHT
TZOFFSETFROM:+0000
TZOFFSETTO:+0100
TZNAME:BST
DTSTART:20190331T010000
END:DAYLIGHT
BEGIN:STANDARD
TZOFFSETFROM:+0100
TZOFFSETTO:+0000
TZNAME:GMT
DTSTART:20191027T010000
END:STANDARD
BEGIN:DAYLIGHT
TZOFFSETFROM:+0000
TZOFFSETTO:+0100
TZNAME:BST
DTSTART:20200329T010000
END:DAYLIGHT
BEGIN:STANDARD
TZOFFSETFROM:+0100
TZOFFSETTO:+0000
TZNAME:GMT
DTSTART:20201025T010000
END:STANDARD
END:VTIMEZONE
BEGIN:VEVENT
DTSTART;TZID=Europe/London:20190511T080000
DTEND;TZID=Europe/London:20190511T170000
DTSTAMP:20260423T081434
CREATED:20190427T145647Z
LAST-MODIFIED:20190427T145647Z
UID:3277-1557561600-1557594000@penfightdistro.com
SUMMARY:Boshemia Magazine\, Zine-Making Workshop
DESCRIPTION:Boshemia is an international print and online magazine centered on art\, culture and feminism\, brought to you by a global collective of womxn\, femmes\, non-binary and LGBTQ+ folk based in the US and UK. \nBACKLIT’s arts writers in residence Notts/Poke will also be providing a space for women and non-binary peopler to present written works in response to the exhibition. \nBOSHEMIA MAGAZINE WILL ALSO BE DELIVERING A FREE TALK ON THE HISTORY OF (MAGA)ZINES AT 3PM.
URL:https://penfightdistro.com/zine-event/boshemia-magazine-zine-making-workshop/
LOCATION:BACKLIT\, Ashley Street\, Nottingham\, NG3\, United Kingdom
CATEGORIES:Workshops
END:VEVENT
BEGIN:VEVENT
DTSTART;TZID=Europe/London:20190519T130000
DTEND;TZID=Europe/London:20190519T170000
DTSTAMP:20260423T081434
CREATED:20190427T152924Z
LAST-MODIFIED:20190427T152924Z
UID:3324-1558270800-1558285200@penfightdistro.com
SUMMARY:Zine Printing FREE workshop with Hato Press
DESCRIPTION:Create a zine through creative collage at this free workshop as part of Urban Village Fete\n\n\n\n\n\n\nAbout this Event\n\n\nCreate your own two colour zine with Hato Press – the independent printing and publishing house based in London. \nThe Hato team will supply you with a variety of collage materials to create your own iconic piece of print. Cut\, splice\, stick and twist then bind your zine to take home. \nThe workshop will run as a drop in session with up to 12 people who will be able to work at each time. Each workshop will take roughly 20-30 minutes to complete. Each participant will artwork by cutting and pasting collage materials as well as mark making to create their own two colour zine. \nThis workshop is free to attend but spaces are limited – register now to reserve your spot! \nChildren are welcome to attend\, but must be accompanied by an adult. \nAbout Hato Press \nHato Press is an independent printing and publishing house based in London. Established in 2009\, Hato is thought of as an autonomous experimental space to encourage collaborators to develop ideas and facilitate both the production and distribution of new content \nAbout Urban Village Fete \nUrban Village Fete is a free one-day music and arts festival that features a range of unique pop-ups\, walkabout entertainment and curated marketplaces. Come down to eat from London’s best street food vendors\, learn a new creative craft with workshops for all ages or dance in the park with live music and DJs. Round up the troops for another get-together on Greenwich Peninsula to kick off your summer!
URL:https://penfightdistro.com/zine-event/zine-printing-free-workshop-with-hato-press/
LOCATION:Urban Village Fete\, Greenwich Peninsula\, London\, SE10
CATEGORIES:Workshops
ATTACH;FMTTYPE=image/jpeg:https://penfightdistro.com/wp-content/uploads/2019/04/https___cdn.evbuc_.com_images_61172284_287182253664_1_original.jpg
END:VEVENT
END:VCALENDAR