BEGIN:VCALENDAR
VERSION:2.0
PRODID:-//pen fight - ECPv6.15.20//NONSGML v1.0//EN
CALSCALE:GREGORIAN
METHOD:PUBLISH
X-WR-CALNAME:pen fight
X-ORIGINAL-URL:https://penfightdistro.com
X-WR-CALDESC:Events for pen fight
REFRESH-INTERVAL;VALUE=DURATION:PT1H
X-Robots-Tag:noindex
X-PUBLISHED-TTL:PT1H
BEGIN:VTIMEZONE
TZID:Europe/London
BEGIN:DAYLIGHT
TZOFFSETFROM:+0000
TZOFFSETTO:+0100
TZNAME:BST
DTSTART:20170326T010000
END:DAYLIGHT
BEGIN:STANDARD
TZOFFSETFROM:+0100
TZOFFSETTO:+0000
TZNAME:GMT
DTSTART:20171029T010000
END:STANDARD
BEGIN:DAYLIGHT
TZOFFSETFROM:+0000
TZOFFSETTO:+0100
TZNAME:BST
DTSTART:20180325T010000
END:DAYLIGHT
BEGIN:STANDARD
TZOFFSETFROM:+0100
TZOFFSETTO:+0000
TZNAME:GMT
DTSTART:20181028T010000
END:STANDARD
BEGIN:DAYLIGHT
TZOFFSETFROM:+0000
TZOFFSETTO:+0100
TZNAME:BST
DTSTART:20190331T010000
END:DAYLIGHT
BEGIN:STANDARD
TZOFFSETFROM:+0100
TZOFFSETTO:+0000
TZNAME:GMT
DTSTART:20191027T010000
END:STANDARD
END:VTIMEZONE
BEGIN:VEVENT
DTSTART;TZID=Europe/London:20180903T183000
DTEND;TZID=Europe/London:20180903T220000
DTSTAMP:20260425T190829
CREATED:20180829T201022Z
LAST-MODIFIED:20180829T201022Z
UID:3089-1535999400-1536012000@penfightdistro.com
SUMMARY:Global Gardens Zine Workshop
DESCRIPTION:Global Gardens are inviting folks to contribute to a zine about the incredible world of fungi\, herb and seed. \nYou may have attended some of the Global Gardens workshops over the last few months. Or you might just want to learn more about zines/create. \nJoin us for a supper where we will learn more about zines and begin to make one. \nRosey Brown will start the session off with an introduction to the zine scene. \nWe will then hold an open zine jam session where we cut up and patch together a zine on the night. \nNibbles\, tunes\, scissors\, paper and pens will be provided! Just bring yourself.
URL:https://penfightdistro.com/zine-event/global-gardens-zine-workshop/
LOCATION:Embassy Cafe\, 36 Cathays Terrace\, Cardiff\, CF24 4HX\, United Kingdom
CATEGORIES:Workshops
ATTACH;FMTTYPE=image/jpeg:https://penfightdistro.com/wp-content/uploads/2018/08/39278247_684868951875711_1380228753212309504_n.jpg
END:VEVENT
BEGIN:VEVENT
DTSTART;TZID=Europe/London:20180904T173000
DTEND;TZID=Europe/London:20180904T200000
DTSTAMP:20260425T190829
CREATED:20180829T201732Z
LAST-MODIFIED:20180829T201732Z
UID:3099-1536082200-1536091200@penfightdistro.com
SUMMARY:Collective Zine Making Workshop
DESCRIPTION:Collective Zine Making Workshop\nTuesday 4 September\, 5.30 – 8pm\nThe NewBridge Project : Gateshead\nFREE – Please reserve a space: https://www.eventbrite.co.uk/e/collective-zine-making-workshop-tickets-49090501010 \nJoin Rene McBrearty and Jill McKnight for an evening of food and a discussion that will explore the themes of their current exhibition. In their work\, themes of hidden histories\, work and labour are considered from the perspective of the women in their families. Food is central to these themes\, so vegan curry\, rice and peas\, and refreshments will be served during the event.
URL:https://penfightdistro.com/zine-event/collective-zine-making-workshop/
LOCATION:The NewBridge Project\, 232-240 High Street\, Gateshead\, NE8 1AQ
CATEGORIES:Workshops
ATTACH;FMTTYPE=image/jpeg:https://penfightdistro.com/wp-content/uploads/2018/08/39109052_1171982466289218_5144434607931785216_n.jpg
END:VEVENT
BEGIN:VEVENT
DTSTART;TZID=Europe/London:20180914T190000
DTEND;TZID=Europe/London:20180914T210000
DTSTAMP:20260425T190829
CREATED:20180829T202031Z
LAST-MODIFIED:20180829T202031Z
UID:3105-1536951600-1536958800@penfightdistro.com
SUMMARY:Seven Artists- Zine workshop
DESCRIPTION:Workshop for residents of Walthamstow \nStrength comes in many forms for every person. Come along to our zine making workshop\, where we will discuss and experiment with a range of collage techniques\, explore composition\, colour theory and typography\, so you the artists can begin to make decisions about how to visually communicate what Strength means to you. No prior experience necessary\, this is open to experienced and novice artists alike. \nThe group will produce a collaborative zine\, which Low will publish and distribute with Wynwood Art District. Each participant will contribute a double page each to the zine\, and will each receive copies. \nThe workshop is run by Abbie Smith\, a fully qualified Arts Educator based in London. Her personal work is mixed media and is often driven by mark making. Abbie’s work often starts with analogue photography\, and bridges out to printmaking\, collage\, painting\, sculpture and zine making\, informed by the processes and communication of an emotional response. \n*PLEASE NOTE*\nAs this workshop is free\, if you cannot attend please make sure you let us know so that we can offer the place to someone else.
URL:https://penfightdistro.com/zine-event/seven-artists-zine-workshop/
LOCATION:Locus Of Walthamstow\, 1 chingford road\, London\, E17 4PW\, United Kingdom
CATEGORIES:Workshops
END:VEVENT
BEGIN:VEVENT
DTSTART;TZID=Europe/London:20180922T130000
DTEND;TZID=Europe/London:20180922T180000
DTSTAMP:20260425T190829
CREATED:20180829T202400Z
LAST-MODIFIED:20180829T202400Z
UID:3108-1537621200-1537639200@penfightdistro.com
SUMMARY:Zine Workshop - Edinburgh
DESCRIPTION:Join Butterfly Conservations Bog Squad in collaboration with the Edinburgh Zine Library for a fun workshop in a fantastic location at the Botanic Cottage\, RBGE! \nWhat is a zine? – A zine is a kind of mini mixed-media magazine which is handmade/self-published. They are made by many writers\, artists and creators on a range of themes\, interests or passions – see examples that Bog Squad have made for events at bogsquad.weebly.com/peatlands-for-people.html. Zines are a great way of getting information out there\, so can be tailored to any subject and can be easily reproduced with just a photocopier. They are a really fun and relaxing activity with lots of cutting and gluing involved to create something truly unique! \nWhat will we be doing? – This event will be a chance for attendees to hear about the work BC is doing in peatland restoration\, climate change\, sustainability and nature conservation. \nThere will be time for skill sharing\, networking and perhaps a walk outdoors (weather permitting) for inspiration. \nWe will be working on a collaborative zine on the topics discussed and attendees will also have the opportunity to make their own mini zines about their thoughts on the day. We’ll be providing all the materials – paper\, pens\, glue\, paint\, stamps\, stickers\, magazines/media to cut out – but if you have some art supplies/reference materials you’d like to use in your zine do feel free to bring them along! \nThis event is primarily being run for adults although interested young people are also more than welcome. \nHow to book – it is completely FREE TO ATTEND however the venue had LIMITED CAPACITY so we do ask that if you want to come along that you CONTACT US TO BOOK A SPACE. \nTO BOOK A SPACE PLEASE CONTACT – Rebecca Crawford on rcrawford@butterfly-conservation.org \nFor more zine workshops see our events page on Facebook.
URL:https://penfightdistro.com/zine-event/zine-workshop-edinburgh/
LOCATION:Royal Botanic Garden Edinburgh\, Arboretum Pl\, Edinburgh\, EH3 5LR
CATEGORIES:Workshops
ATTACH;FMTTYPE=image/jpeg:https://penfightdistro.com/wp-content/uploads/2018/08/39871992_2353304261351517_317017445992759296_n.jpg
END:VEVENT
END:VCALENDAR