BEGIN:VCALENDAR
VERSION:2.0
PRODID:-//pen fight - ECPv6.15.20//NONSGML v1.0//EN
CALSCALE:GREGORIAN
METHOD:PUBLISH
X-WR-CALNAME:pen fight
X-ORIGINAL-URL:https://penfightdistro.com
X-WR-CALDESC:Events for pen fight
REFRESH-INTERVAL;VALUE=DURATION:PT1H
X-Robots-Tag:noindex
X-PUBLISHED-TTL:PT1H
BEGIN:VTIMEZONE
TZID:Europe/London
BEGIN:DAYLIGHT
TZOFFSETFROM:+0000
TZOFFSETTO:+0100
TZNAME:BST
DTSTART:20170326T010000
END:DAYLIGHT
BEGIN:STANDARD
TZOFFSETFROM:+0100
TZOFFSETTO:+0000
TZNAME:GMT
DTSTART:20171029T010000
END:STANDARD
BEGIN:DAYLIGHT
TZOFFSETFROM:+0000
TZOFFSETTO:+0100
TZNAME:BST
DTSTART:20180325T010000
END:DAYLIGHT
BEGIN:STANDARD
TZOFFSETFROM:+0100
TZOFFSETTO:+0000
TZNAME:GMT
DTSTART:20181028T010000
END:STANDARD
BEGIN:DAYLIGHT
TZOFFSETFROM:+0000
TZOFFSETTO:+0100
TZNAME:BST
DTSTART:20190331T010000
END:DAYLIGHT
BEGIN:STANDARD
TZOFFSETFROM:+0100
TZOFFSETTO:+0000
TZNAME:GMT
DTSTART:20191027T010000
END:STANDARD
END:VTIMEZONE
BEGIN:VEVENT
DTSTART;TZID=Europe/London:20180526T120000
DTEND;TZID=Europe/London:20180526T150000
DTSTAMP:20260425T235640
CREATED:20180523T133241Z
LAST-MODIFIED:20180523T133241Z
UID:2830-1527336000-1527346800@penfightdistro.com
SUMMARY:GIRL GANG Art Show II / Zine Making Workshop
DESCRIPTION:?Join Phoebe Kitcher Art for their zine workshop! Bring your own materials or use the provided ones to create your own zine\, learn folding techniques\, and meet some cool people. Turn up with as much or as little preparation as you want!? \nSat 26th May 12-3pm @ SPACE\nDonations appreciated to cover material costs!
URL:https://penfightdistro.com/zine-event/girl-gang-art-show-ii-zine-making-workshop/
LOCATION:SPACE\, 6 West Street\, St Philips\, Bristol\, BS2 0\, United Kingdom
CATEGORIES:Workshops
ATTACH;FMTTYPE=image/jpeg:https://penfightdistro.com/wp-content/uploads/2018/05/32686209_169462130404437_5481945679355969536_n.jpg
END:VEVENT
BEGIN:VEVENT
DTSTART;TZID=Europe/London:20180526T130000
DTEND;TZID=Europe/London:20180526T160000
DTSTAMP:20260425T235640
CREATED:20180523T132707Z
LAST-MODIFIED:20180523T132707Z
UID:2823-1527339600-1527350400@penfightdistro.com
SUMMARY:Zine Workshop - An Open Library with Ellen Welsh
DESCRIPTION:ZINE WORKSHOP with artist and zinemaker Ellen Welsh \n…an Open Library event at The Women Artists of the North East Library on Saturday 26th May 1-4pm. \nAnybody can make a zine! This workshop offers an introduction to making zines – absolute beginners and seasoned zinesters equally welcome. \nWHAT’S A ZINE?\nA zine (/ziːn/ ZEEN;) is a small-circulation self-published work of original or appropriated texts and images\, usually reproduced via photocopier. Zines are either the product of a single person or of a very small group and are popularly photocopied into physical prints for circulation.\nWHY MAKE A ZINE?\nAs with other kinds of artworks\, zines offer an accessible way to express appreciation\, affection\, anger\, sadness\, and catharsis. Or they can be made just Because. Zines have often been a medium for marginalised voices; an important tool for expressing stories and identities that rejects\, or are rejected by\, mainstream society.\nWHAT’S THIS WORKSHOP ABOUT?\nWe will be looking at the artist’s own zines\, which often form part of her artistic practice\, and her sources of inspiration for these. We will be having a chat about the history and different kinds of zines you can find in the world (fanzines\, art zines\, political zines\, queer zines\, perzines etc.)\nBut most of all we will be learning how to make your own zine\, and how to reproduce it. The workshop will be a relaxed space to learn and experiment with different techniques such as collage\, drawing\, writing\, sewing\, and putting together different sizes and formats of zines! The focus of this workshop will be DIY cut-and-paste zine making\, rather than digital techniques.\nInformation will also be available on how to reproduce\, bind\, and distribute your zines. \nMaterials will be provided\, but please feel free to bring anything additional you would like to use\, such as paper\, scissors\, stickers\, tape\, books\, magazines etc. \nCome and have a flick through some zines\, try your hand at making your own\, or just soak up the cut-n-paste vibes of the afternoon. \nEllen Welsh \nEllen Welsh is a recent fine art graduate from Newcastle University and studio member at The Newbridge Project\, Gateshead. Blurring the line between zines and artists’ books\, she uses text and image and often invites the viewer to handle her work. Taking inspiration from confessional perzines of the 1990s such as Doris\, she aims to cultivate an intimacy between the maker and the viewer. She hopes to express something about memory\, nostalgia\, temporality and diaristic experience to whoever is looking at her art.\nEllen is currently working on Issue 3 of her zine ‘Sapphic’ – a collaborative zine which pulls together writing and artwork by bisexual\, lesbian and queer women in order to affirm solidarity between these groups\, and the importance of queer spaces and story-telling. \nLinks to more of Ellen’s work:\nArtist blog: https://ellenwelsh.wordpress.com/\nShop & website: https://www.etsy.com/shop/letterstoanisland
URL:https://penfightdistro.com/zine-event/zine-workshop-an-open-library-with-ellen-welsh/
LOCATION:The Northern Charter\, Commercial Union House\, 39 Pilgrim St\, Newcastle upon Tyne\, NE1 6QE\, United Kingdom
CATEGORIES:Workshops
ATTACH;FMTTYPE=image/jpeg:https://penfightdistro.com/wp-content/uploads/2018/05/33141141_1714682161948162_4093945264425926656_n.jpg
END:VEVENT
BEGIN:VEVENT
DTSTART;TZID=Europe/London:20180527T160000
DTEND;TZID=Europe/London:20180527T200000
DTSTAMP:20260425T235640
CREATED:20180523T131844Z
LAST-MODIFIED:20180523T131844Z
UID:2817-1527436800-1527451200@penfightdistro.com
SUMMARY:Not a Bloody Luxury: A Menstrual Hygiene Day Fundraiser
DESCRIPTION:Join The Monthlies and Edinburgh Zine Library for an afternoon of workshops\, discussion and a chance to help end the stigma around periods. \nWorkshops and booking to be announced. \nPeriod poverty affects huge swathes of people and we will be collecting unopened sanitary pads\, tampons\, baby wipes and underwear to distribute among local charities. \nRemember\, not everyone who has a period identifies as female – Don’t question\, don’t assume.
URL:https://penfightdistro.com/zine-event/not-a-bloody-luxury-a-menstrual-hygiene-day-fundraiser/
LOCATION:The Forest Cafe\, 141 Lauriston Pl\, Edinburgh\, EH3 9JN\, United Kingdom
CATEGORIES:Workshops
END:VEVENT
END:VCALENDAR