BEGIN:VCALENDAR
VERSION:2.0
PRODID:-//pen fight - ECPv6.15.20//NONSGML v1.0//EN
CALSCALE:GREGORIAN
METHOD:PUBLISH
X-WR-CALNAME:pen fight
X-ORIGINAL-URL:https://penfightdistro.com
X-WR-CALDESC:Events for pen fight
REFRESH-INTERVAL;VALUE=DURATION:PT1H
X-Robots-Tag:noindex
X-PUBLISHED-TTL:PT1H
BEGIN:VTIMEZONE
TZID:Europe/London
BEGIN:DAYLIGHT
TZOFFSETFROM:+0000
TZOFFSETTO:+0100
TZNAME:BST
DTSTART:20200329T010000
END:DAYLIGHT
BEGIN:STANDARD
TZOFFSETFROM:+0100
TZOFFSETTO:+0000
TZNAME:GMT
DTSTART:20201025T010000
END:STANDARD
BEGIN:DAYLIGHT
TZOFFSETFROM:+0000
TZOFFSETTO:+0100
TZNAME:BST
DTSTART:20210328T010000
END:DAYLIGHT
BEGIN:STANDARD
TZOFFSETFROM:+0100
TZOFFSETTO:+0000
TZNAME:GMT
DTSTART:20211031T010000
END:STANDARD
BEGIN:DAYLIGHT
TZOFFSETFROM:+0000
TZOFFSETTO:+0100
TZNAME:BST
DTSTART:20220327T010000
END:DAYLIGHT
BEGIN:STANDARD
TZOFFSETFROM:+0100
TZOFFSETTO:+0000
TZNAME:GMT
DTSTART:20221030T010000
END:STANDARD
END:VTIMEZONE
BEGIN:VEVENT
DTSTART;TZID=Europe/London:20211208T180000
DTEND;TZID=Europe/London:20211208T200000
DTSTAMP:20260421T093656
CREATED:20211205T233243Z
LAST-MODIFIED:20211205T233243Z
UID:15064-1638986400-1638993600@penfightdistro.com
SUMMARY:Social Practice Social | Power: Freedom to Create zine project
DESCRIPTION:Book tickets here\n\nJoin Bo Olawoye to hear about a project with Broxtowe Women’s Project and Heya Nottingham to co-produce a visually stunning zine.\n\n\n\n\n\nAbout this event\n\n\nSocial Practice Social is a regular discussion forum for artists\, programmers\, community organisers\, activists\, and others working with participation\, collaboration\, public space\, or social change. \nIn December’s session\, Creative Engagement Manager Bo Olawoye will discuss the process of facilitating a series of creative sessions with participants from Broxtowe Women’s Project and Heya Nottingham to co-produce a visually stunning zine. \nThe zine project is inspired by  the recent ‘Power: Freedom to Create‘ exhibition at National Justice Museum. It shows contemporary and historical artwork made by people who have had their freedom taken away from them. The women created artwork and text inspired by the Power exhibition and how we use creativity to get through difficult times in our lives. \nRefreshments provided. Please contact rebecca@weareprimary with any questions and access needs. \nBo Olawoye is a Nottingham based freelance Creative Engagement Manager who specialises in co-producing innovative arts projects with diverse communities\, young people\, marginalized groups and artist educators. Her work explores race\, identity\, place and social justice issues. She has 20 years experience working in the visual arts sector locally\, nationally and internationally.
URL:https://penfightdistro.com/zine-event/social-practice-social-power-freedom-to-create-zine-project/
LOCATION:PRIMARY\, 33 Seely Rd\, Nottingham\, NG7 1NU\, United Kingdom
CATEGORIES:Talks & Discussions
ATTACH;FMTTYPE=image/jpeg:https://penfightdistro.com/wp-content/uploads/2021/12/https___cdn.evbuc_.com_images_172128859_97831164749_1_original.jpg
END:VEVENT
END:VCALENDAR