BEGIN:VCALENDAR
VERSION:2.0
PRODID:-//pen fight - ECPv6.15.20//NONSGML v1.0//EN
CALSCALE:GREGORIAN
METHOD:PUBLISH
X-WR-CALNAME:pen fight
X-ORIGINAL-URL:https://penfightdistro.com
X-WR-CALDESC:Events for pen fight
REFRESH-INTERVAL;VALUE=DURATION:PT1H
X-Robots-Tag:noindex
X-PUBLISHED-TTL:PT1H
BEGIN:VTIMEZONE
TZID:Europe/London
BEGIN:DAYLIGHT
TZOFFSETFROM:+0000
TZOFFSETTO:+0100
TZNAME:BST
DTSTART:20180325T010000
END:DAYLIGHT
BEGIN:STANDARD
TZOFFSETFROM:+0100
TZOFFSETTO:+0000
TZNAME:GMT
DTSTART:20181028T010000
END:STANDARD
BEGIN:DAYLIGHT
TZOFFSETFROM:+0000
TZOFFSETTO:+0100
TZNAME:BST
DTSTART:20190331T010000
END:DAYLIGHT
BEGIN:STANDARD
TZOFFSETFROM:+0100
TZOFFSETTO:+0000
TZNAME:GMT
DTSTART:20191027T010000
END:STANDARD
BEGIN:DAYLIGHT
TZOFFSETFROM:+0000
TZOFFSETTO:+0100
TZNAME:BST
DTSTART:20200329T010000
END:DAYLIGHT
BEGIN:STANDARD
TZOFFSETFROM:+0100
TZOFFSETTO:+0000
TZNAME:GMT
DTSTART:20201025T010000
END:STANDARD
END:VTIMEZONE
BEGIN:VEVENT
DTSTART;TZID=Europe/London:20190503T160000
DTEND;TZID=Europe/London:20190503T200000
DTSTAMP:20260424T093447
CREATED:20190427T135149Z
LAST-MODIFIED:20190427T135149Z
UID:3252-1556899200-1556913600@penfightdistro.com
SUMMARY:Duplicate Publishing Fair
DESCRIPTION:The inaugural Duplicate Artist Publishing Fair welcomes various collective and individual self-publishers from the UK and beyond. \nThe fair will showcase a broad range of independent publications\, zines\, comics and artists’ books whilst a programme of activity in Eastside Projects’ second gallery space will run alongside it. The full list of stall holders and any workshops and screenings taking place will be added to the website in due course. \nPresented in partnership with BAAAD Press\, Birmingham City University\, Rope Press and Eastside Projects.
URL:https://penfightdistro.com/zine-event/duplicate-publishing-fair/
LOCATION:Eastside Projects\, 86 Heath Mill Lane\, Birmingham\, B9 4AR
CATEGORIES:Book or Art fair
END:VEVENT
END:VCALENDAR