BEGIN:VCALENDAR
VERSION:2.0
PRODID:-//pen fight - ECPv6.15.20//NONSGML v1.0//EN
CALSCALE:GREGORIAN
METHOD:PUBLISH
X-ORIGINAL-URL:https://penfightdistro.com
X-WR-CALDESC:Events for pen fight
REFRESH-INTERVAL;VALUE=DURATION:PT1H
X-Robots-Tag:noindex
X-PUBLISHED-TTL:PT1H
BEGIN:VTIMEZONE
TZID:Europe/London
BEGIN:DAYLIGHT
TZOFFSETFROM:+0000
TZOFFSETTO:+0100
TZNAME:BST
DTSTART:20170326T010000
END:DAYLIGHT
BEGIN:STANDARD
TZOFFSETFROM:+0100
TZOFFSETTO:+0000
TZNAME:GMT
DTSTART:20171029T010000
END:STANDARD
BEGIN:DAYLIGHT
TZOFFSETFROM:+0000
TZOFFSETTO:+0100
TZNAME:BST
DTSTART:20180325T010000
END:DAYLIGHT
BEGIN:STANDARD
TZOFFSETFROM:+0100
TZOFFSETTO:+0000
TZNAME:GMT
DTSTART:20181028T010000
END:STANDARD
BEGIN:DAYLIGHT
TZOFFSETFROM:+0000
TZOFFSETTO:+0100
TZNAME:BST
DTSTART:20190331T010000
END:DAYLIGHT
BEGIN:STANDARD
TZOFFSETFROM:+0100
TZOFFSETTO:+0000
TZNAME:GMT
DTSTART:20191027T010000
END:STANDARD
END:VTIMEZONE
BEGIN:VEVENT
DTSTART;TZID=Europe/London:20180908T110000
DTEND;TZID=Europe/London:20180908T230000
DTSTAMP:20260424T201715
CREATED:20180523T145047Z
LAST-MODIFIED:20180523T145047Z
UID:2881-1536404400-1536447600@penfightdistro.com
SUMMARY:Anarchist/Radical Bookfair and an after acoustic and a punk gig
DESCRIPTION:Rebel Cat and Aardvark Production Collective along with the 1 in 12 Club are proud to announce the first anarchist/radical bookfair in many years from 11.00am to 4.00pm followed by an acoustic gig from 5.30pm to 8.10pm\, and a Punk gig from 7.30pm to 11.30pm. \nThere will be stalls\, films and some speakers/workshops. \nIf you are interested in a /talk/workshop or showing a film please get in touch. \nTalks: \n11.30am to 12.30 – Henry Raby – a talk about the nature of punk poetry.\nhttps://www.etsy.com/uk/listing/602579179/nerd-punk-by-henry-raby \nThis will be followed by a “poets corner” where various poets will give readings throughout the day in between the talks/workshops! \nPoets Corner (times tbc): \nAndy Carrington\nDwane Reads\nTatty Hoggarth \nWorkshops: IWW workshop\, details tbc \nStalls: \nRebel Cat Events/Aardvark Productions Collective/1 in 12 Club: \nRebel Cat a not for profit\, grassroots\, DIY promoter who puts on benefit gigs to raise awareness for social issues and demand a change. \nAardvark Productions Collective helps promote and support local promoters and bands in the West Yorkshire Area. We are not for profit and all money is invested back into local music. \n1 in 12 Club started in 1981\, evolving from the local Claimants Union. Originally the Club organised social events in various local pubs and clubs. The Club is 2 separate things; firstly and most importantly it is a group of people who work together to promote certain political ideals and social change; secondly it is a building housing a members social club. \nhttps://www.facebook.com/RebelCatEvents/ \nhttps://www.facebook.com/AardvarkProd/ \nhttps://www.facebook.com/1in12/ \nHorn and Hoof Records: \nHorn & Hoof Records is a distribution label from Manchester\, we put on gigs and work with some of the best bands in the UK. They are also behind Rebel Cat in Manchester. \nhttps://www.facebook.com/Horn.N.Hoof.Records/ \nTrans Mission: \nTrans Mission is a Trans and Gender Variant Information and Support group.\nWe run weekly groups in Bradford and monthly groups in Leeds and Doncaser for anyone on the trans spectrum or questioning their gender identity. We run monthly Trans Masculine only spaces\, a Wellbeing Support group\, a Walking group\, a Lunchtime support group and a Peer Support Mentor Program.\nWe offer Advocacy\, Trans and Gender Variance Awareness Training and endless cups of tea and biscuits. \nhttps://www.facebook.com/UKTransMission/ \nAnarchist Federation: \n“As anarchist communists we fight for a world without leaders\, where power is shared equally amongst communities\, and people are free to reach their full potential”. \nhttps://www.facebook.com/Anarchistfederation/ \nHunt Sabs: \nThe only organization that works directly in the field to protect wildlife from the hunter. \nhttps://www.facebook.com/HuntSaboteursAssociation/ \nPM Press: \nPM Press was founded at the end of 2007 by a small collection of folks with decades of publishing\, media\, and organizing experience. PM Press co-conspirators have published and distributed hundreds of books\, pamphlets\, CDs\, and DVDs. \nhttps://www.facebook.com/pmpress.uk/ \nAK Press: \nA worker-run collective that publishes and distributes radical books\, visual and audio media\, and other mind-altering material.\nhttps://www.facebook.com/AKPress/ \nActive Distribution: \nAn online distro for almost all things anarcho. Supplying collectives\, radical bookshops and people with the kind of stuff you’re unlikely to find in Waterstone’s [and certainly shouldn’t be on amazon!]. \nhttps://www.facebook.com/ActiveDistro/ \n0161 Festival: \n“0161 Festival is held to raise money for anti-fascists throughout Europe\, with a huge variety of music and activities going on throughout the weekend. It is to show that regardless of the music and style we are all united through the anti-fascist banner” \nhttps://www.facebook.com/0161Festival/ \nPunk Ethics: \nDIY punk collective\, kickin’ sweatshops out of the UK punk scene & promoting a progressive punk attitude \nhttps://www.facebook.com/punkethics/ \nFreedom News: \nFreedom News is an online anarchist resource for news\, comment and activism. Founded in 1886\, we moved fully online in 2014 and publish a quarterly paper. \nhttps://www.facebook.com/FreedomNews1886/ \nCubesville zines: \nCubesville will stock the long-running anarcho-absurdist punkzine One Way Ticket to Cubesville\, together with the popular anarcho-veganzines such as The Vegan’s Guide to People Arguing with Vegans\, The Victorian Vegan\, and Veganarchy\, Chaos and Destruction. Richard Cubesville has written and published zines since the 1980s and also co-hosts Manchester community radio show\, Under the Pavement – bringing you DIY culture and grassroots activism every fortnight on ALLFM. \nHaven Distribution: \nFounded in 1996 and staffed only by volunteers\, Haven Distribution supplies books to prisoners. We rely entirely on donations to fund our work. You can find us at any number of anarchist bookfairs across the country selling books and other goodies. We also have a rapidly growing online shop. You can find out more about us and how we work at our website. We’re a friendly bunch so make sure you come and say hello. : \nwww.havendistribution.org.uk\n.\nIWW: \nWe are the Bradford General Membership Branch of the Industrial Workers of the World and we are the Union for ALL workers \nhttps://www.facebook.com/BradfordIwwUnion/ \nLeeds Anti Fascist Network (LAFN) \nhttps://www.facebook.com/leedsafn/ \nCRIBS International: (TBC) \nPregnant women need safe\, clean places to live. Greek camps are dirty & lack running water or 24 hour medical aid. Working with others\, we give a home. \nhttps://www.facebook.com/CRIBSInternational/ \nOlive Branch: (TBC): \nFair trade shop also selling organic\, vegan\, vegetarian and environmentally friendly products. \nhttps://www.facebook.com/Bradford.fair.trade.shop/ \nSolidarity Federation: (TBC) \nThe Solidarity Federation is a revolutionary union initiative: a working-class organisation which seeks the abolition of capitalism and the state \nhttps://www.facebook.com/solfed/ \nGig: \nhttps://www.facebook.com/events/2127304190879249/ \nWe are hosting an acoustic gig from 5.30pm to 8.00pm upstairs\, followed by a punk gig on the gig floor from 7.30pm to 11.00pm. More details to follow: \nAcoustic artists booked:\n5:30 – 6:10 James ‘Bar’ Bowen\n6:10 – 6:50 Trickstar Entertainment\n6:50 – 7:30 Gerrard Bell-Fife\n7:30 – 8:10 Chuck SJ \nPunk gig:\n51st State: 10.45 to 11.30\nAndy T Band: 9.50 to 10.35\nFear Insight: 9.00 to 9.40\nOmniMania: 8.15 to 8.50\nDisruptive Influence: 7.30 to 8.05\nDoors open 7pm \nDoor tax to all gigs from 5.30 (acoustic and punk gig):\n£7.00 on the door £6.00 members \n51st State Philisophical Anarch-OM punk.from Exeter\nhttps://www.facebook.com/51st-STATE-347870476861/ \nAndy T Band Anarcho-Punk Poet/Artist. Released material on Crass Records over 30 years ago. Still writing\, and performing\nhttps://www.facebook.com/andy.thorley.1 \nFear Insight\nHardcore Punk from Birmingham\nhttps://www.facebook.com/FEAR-INSIGHT-301640119931424/ \nDisruptive Influence\nBristol based 4 piece punk band playin thrashy\, in your face punk rock!!!\nhttps://www.facebook.com/DisruptiveInfluenceUK/ \nOmniMania\nYorkshire based band\, specialising in their own brand of high-octane blues-rock\, paying homage to the classics but precision engineered for the modern era.\nhttps://www.facebook.com/Omnimaniaband/ \nWe also hope to have food available at the cafe between 5pm and 8pm
URL:https://penfightdistro.com/zine-event/anarchist-radical-bookfair-and-an-after-acoustic-and-a-punk-gig/
LOCATION:1 in 12\, 21-23 Albion Street\, City of Bradford\, BD1 2LY\, United Kingdom
CATEGORIES:Book or Art fair
ATTACH;FMTTYPE=image/jpeg:https://penfightdistro.com/wp-content/uploads/2018/05/32089749_2014365045446809_7627761428346175488_n.jpg
END:VEVENT
END:VCALENDAR