BEGIN:VCALENDAR
VERSION:2.0
PRODID:-//pen fight - ECPv6.15.20//NONSGML v1.0//EN
CALSCALE:GREGORIAN
METHOD:PUBLISH
X-WR-CALNAME:pen fight
X-ORIGINAL-URL:https://penfightdistro.com
X-WR-CALDESC:Events for pen fight
REFRESH-INTERVAL;VALUE=DURATION:PT1H
X-Robots-Tag:noindex
X-PUBLISHED-TTL:PT1H
BEGIN:VTIMEZONE
TZID:Europe/London
BEGIN:DAYLIGHT
TZOFFSETFROM:+0000
TZOFFSETTO:+0100
TZNAME:BST
DTSTART:20250330T010000
END:DAYLIGHT
BEGIN:STANDARD
TZOFFSETFROM:+0100
TZOFFSETTO:+0000
TZNAME:GMT
DTSTART:20251026T010000
END:STANDARD
BEGIN:DAYLIGHT
TZOFFSETFROM:+0000
TZOFFSETTO:+0100
TZNAME:BST
DTSTART:20260329T010000
END:DAYLIGHT
BEGIN:STANDARD
TZOFFSETFROM:+0100
TZOFFSETTO:+0000
TZNAME:GMT
DTSTART:20261025T010000
END:STANDARD
BEGIN:DAYLIGHT
TZOFFSETFROM:+0000
TZOFFSETTO:+0100
TZNAME:BST
DTSTART:20270328T010000
END:DAYLIGHT
BEGIN:STANDARD
TZOFFSETFROM:+0100
TZOFFSETTO:+0000
TZNAME:GMT
DTSTART:20271031T010000
END:STANDARD
END:VTIMEZONE
BEGIN:VEVENT
DTSTART;VALUE=DATE:20260426
DTEND;VALUE=DATE:20260427
DTSTAMP:20260426T021053
CREATED:20260304T120327Z
LAST-MODIFIED:20260304T120327Z
UID:23544-1777161600-1777247999@penfightdistro.com
SUMMARY:Rose Tinted Spectacular (Brighton)
DESCRIPTION:Spring is soon to be sprung! And a new RTS zine fair is soon to be born…\nThis spring special will be held @the_rose_hill in Brighton on Sunday the 26th of April!\nAll profits will be donated to local migrant solidarity and homelessness charities.\nTo apply to table at this event send a message to rtszines@gmail.com\nTell your friends!\nOPTIMISM! SOLIDARITY! ZINES!\n🌷🌷🌷
URL:https://penfightdistro.com/zine-event/rose-tinted-spectacular-brighton/
LOCATION:The Rose Hill\, 70-71 Rosehill Terrace\, Brighton\, BN1 4JJ\, United Kingdom
CATEGORIES:Zine Fair
ATTACH;FMTTYPE=image/jpeg:https://penfightdistro.com/wp-content/uploads/2026/03/631584540_18313137646265715_5552818972668487617_n.jpg
END:VEVENT
END:VCALENDAR